BEGIN:VCALENDAR
VERSION:2.0
PRODID:-//UPD CRS//NONSGML Academic Calendar//EN
BEGIN:VEVENT
DTSTAMP:20260420T115908Z
UID:20260420T115908Z69e5a48cbf629@crs.upd.edu.ph
DTSTART;VALUE=DATE:20200601
DTEND;VALUE=DATE:20200710
SUMMARY:Application Period for Transfer Students
DESCRIPTION:First Semester AY 2020-2021
CATEGORIES:Regular,First Semester AY 2020-2021,General
END:VEVENT
BEGIN:VEVENT
DTSTAMP:20260420T115908Z
UID:20260420T115908Z69e5a48cbf630@crs.upd.edu.ph
DTSTART;VALUE=DATE-TIME:20200710T000000Z
DTEND;VALUE=DATE-TIME:19700101T080000Z
SUMMARY:Deadline for Transfer Students to File Application
  for Submission
DESCRIPTION:First Semester AY 2020-2021
CATEGORIES:Regular,First Semester AY 2020-2021,Deadline
END:VEVENT
BEGIN:VEVENT
DTSTAMP:20260420T115908Z
UID:20260420T115908Z69e5a48cbf634@crs.upd.edu.ph
DTSTART;VALUE=DATE:20200829
DTEND;VALUE=DATE:20200902
SUMMARY:General Waitlisting Period
DESCRIPTION:First Semester AY 2020-2021
CATEGORIES:Regular,First Semester AY 2020-2021,Time Period
END:VEVENT
BEGIN:VEVENT
DTSTAMP:20260420T115908Z
UID:20260420T115908Z69e5a48cbf637@crs.upd.edu.ph
DTSTART;VALUE=DATE:20200904
DTEND;VALUE=DATE:20210207
SUMMARY:Academic Term Duration
DESCRIPTION:First Semester AY 2020-2021
CATEGORIES:Regular,First Semester AY 2020-2021,Time Period
END:VEVENT
BEGIN:VEVENT
DTSTAMP:20260420T115908Z
UID:20260420T115908Z69e5a48cbf63a@crs.upd.edu.ph
DTSTART;VALUE=DATE-TIME:20200904T000000Z
DTEND;VALUE=DATE-TIME:20210207T235959Z
SUMMARY:Term Duration for Grade Completion
DESCRIPTION:First Semester AY 2020-2021
CATEGORIES:Regular,First Semester AY 2020-2021,Time Period
END:VEVENT
BEGIN:VEVENT
DTSTAMP:20260420T115908Z
UID:20260420T115908Z69e5a48cbf63e@crs.upd.edu.ph
DTSTART;VALUE=DATE-TIME:20200904T000000Z
DTEND;VALUE=DATE-TIME:20200908T235959Z
SUMMARY:General Registration for Freshmen\, Graduating\, PWD
 s\, Varsity\, HASPAG\, and Graduate Students
DESCRIPTION:First Semester AY 2020-2021
CATEGORIES:Regular,First Semester AY 2020-2021,Registration Events
END:VEVENT
BEGIN:VEVENT
DTSTAMP:20260420T115908Z
UID:20260420T115908Z69e5a48cbf641@crs.upd.edu.ph
DTSTART;VALUE=DATE-TIME:20200904T000000Z
DTEND;VALUE=DATE-TIME:20200908T235959Z
SUMMARY:General Registration
DESCRIPTION:First Semester AY 2020-2021
CATEGORIES:Regular,First Semester AY 2020-2021,Registration Events
END:VEVENT
BEGIN:VEVENT
DTSTAMP:20260420T115908Z
UID:20260420T115908Z69e5a48cbf645@crs.upd.edu.ph
DTSTART;VALUE=DATE-TIME:20200905T000000Z
DTEND;VALUE=DATE-TIME:20200908T235959Z
SUMMARY:General Registration for All UPD Undergraduate and
  Graduate Students
DESCRIPTION:First Semester AY 2020-2021
CATEGORIES:Regular,First Semester AY 2020-2021,Registration Events
END:VEVENT
BEGIN:VEVENT
DTSTAMP:20260420T115908Z
UID:20260420T115908Z69e5a48cbf648@crs.upd.edu.ph
DTSTART;VALUE=DATE-TIME:20200907T040000Z
DTEND;VALUE=DATE-TIME:19700101T080000Z
SUMMARY:Auto-Relinquish Date
DESCRIPTION:First Semester AY 2020-2021
CATEGORIES:Regular,First Semester AY 2020-2021,Class-Related Events
END:VEVENT
BEGIN:VEVENT
DTSTAMP:20260420T115908Z
UID:20260420T115908Z69e5a48cbf64b@crs.upd.edu.ph
DTSTART;VALUE=DATE-TIME:20200908T000000Z
DTEND;VALUE=DATE-TIME:20200908T235959Z
SUMMARY:General Registration for All Students\, including C
 ross-Registrants/Non-Degree/Special Students
DESCRIPTION:First Semester AY 2020-2021
CATEGORIES:Regular,First Semester AY 2020-2021,Registration Events
END:VEVENT
BEGIN:VEVENT
DTSTAMP:20260420T115908Z
UID:20260420T115908Z69e5a48cbf64f@crs.upd.edu.ph
DTSTART;VALUE=DATE:20200910
DTEND;VALUE=DATE:20201209
SUMMARY:Official Class Period
DESCRIPTION:First Semester AY 2020-2021
CATEGORIES:Regular,First Semester AY 2020-2021,Class-Related Events
END:VEVENT
BEGIN:VEVENT
DTSTAMP:20260420T115908Z
UID:20260420T115908Z69e5a48cbf652@crs.upd.edu.ph
DTSTART;VALUE=DATE-TIME:20200910T235959Z
DTEND;VALUE=DATE-TIME:19700101T080000Z
SUMMARY:Deadline for Students to Withdraw Enlistments
DESCRIPTION:First Semester AY 2020-2021
CATEGORIES:Regular,First Semester AY 2020-2021,Deadline
END:VEVENT
BEGIN:VEVENT
DTSTAMP:20260420T115908Z
UID:20260420T115908Z69e5a48cbf655@crs.upd.edu.ph
DTSTART;VALUE=DATE-TIME:20200925T235959Z
DTEND;VALUE=DATE-TIME:19700101T080000Z
SUMMARY:Deadline for Colleges to Submit to OUR the Approve
 d List of Candidates for Graduation
DESCRIPTION:Midyear 2020
CATEGORIES:Regular,First Semester AY 2020-2021,Deadline
END:VEVENT
BEGIN:VEVENT
DTSTAMP:20260420T115908Z
UID:20260420T115908Z69e5a48cbf659@crs.upd.edu.ph
DTSTART;VALUE=DATE-TIME:20200930T235959Z
DTEND;VALUE=DATE-TIME:19700101T080000Z
SUMMARY:Last Day of Payment for Change of Matriculation
DESCRIPTION:First Semester AY 2020-2021
CATEGORIES:Regular,First Semester AY 2020-2021,Deadline
END:VEVENT
BEGIN:VEVENT
DTSTAMP:20260420T115908Z
UID:20260420T115908Z69e5a48cbf65c@crs.upd.edu.ph
DTSTART;VALUE=DATE-TIME:20200930T235959Z
DTEND;VALUE=DATE-TIME:19700101T080000Z
SUMMARY:Last Day of Payment for Registration
DESCRIPTION:First Semester AY 2020-2021
CATEGORIES:Regular,First Semester AY 2020-2021,Deadline
END:VEVENT
BEGIN:VEVENT
DTSTAMP:20260420T115908Z
UID:20260420T115908Z69e5a48cbf65f@crs.upd.edu.ph
DTSTART;VALUE=DATE-TIME:20201002T235959Z
DTEND;VALUE=DATE-TIME:19700101T080000Z
SUMMARY:Deadline for Colleges to Submit to OUR the Tentati
 ve List of Candidates for Graduation
DESCRIPTION:First Semester AY 2020-2021
CATEGORIES:Regular,First Semester AY 2020-2021,Deadline
END:VEVENT
BEGIN:VEVENT
DTSTAMP:20260420T115908Z
UID:20260420T115908Z69e5a48cbf663@crs.upd.edu.ph
DTSTART;VALUE=DATE:20201023
DTEND;VALUE=DATE:19700101
SUMMARY:Mid-Semester
DESCRIPTION:First Semester AY 2020-2021
CATEGORIES:Regular,First Semester AY 2020-2021,Class-Related Events
END:VEVENT
BEGIN:VEVENT
DTSTAMP:20260420T115908Z
UID:20260420T115908Z69e5a48cbf666@crs.upd.edu.ph
DTSTART;VALUE=DATE-TIME:20201120T000000Z
DTEND;VALUE=DATE-TIME:19700101T080000Z
SUMMARY:Last Day for Graduating Students to Clear Their De
 ficiencies
DESCRIPTION:First Semester AY 2020-2021
CATEGORIES:Regular,First Semester AY 2020-2021,Deadline
END:VEVENT
BEGIN:VEVENT
DTSTAMP:20260420T115908Z
UID:20260420T115908Z69e5a48cbf669@crs.upd.edu.ph
DTSTART;VALUE=DATE-TIME:20201125T235959Z
DTEND;VALUE=DATE-TIME:19700101T080000Z
SUMMARY:Deadline for Colleges to Submit Appeals/Cases for 
 CSAPG Consideration
DESCRIPTION:First Semester AY 2020-2021
CATEGORIES:Regular,First Semester AY 2020-2021,Deadline
END:VEVENT
BEGIN:VEVENT
DTSTAMP:20260420T115908Z
UID:20260420T115908Z69e5a48cbf66c@crs.upd.edu.ph
DTSTART;VALUE=DATE-TIME:20201207T000000Z
DTEND;VALUE=DATE-TIME:19700101T080000Z
SUMMARY:Curriculum Committee Meeting
DESCRIPTION:First Semester AY 2020-2021
CATEGORIES:Regular,First Semester AY 2020-2021,Meeting
END:VEVENT
BEGIN:VEVENT
DTSTAMP:20260420T115908Z
UID:20260420T115908Z69e5a48cbf670@crs.upd.edu.ph
DTSTART;VALUE=DATE-TIME:20201210T000000Z
DTEND;VALUE=DATE-TIME:20220130T235959Z
SUMMARY:Period for Grade Completion
DESCRIPTION:First Semester AY 2020-2021
CATEGORIES:Regular,First Semester AY 2020-2021,Time Period
END:VEVENT
BEGIN:VEVENT
DTSTAMP:20260420T115908Z
UID:20260420T115908Z69e5a48cbf673@crs.upd.edu.ph
DTSTART;VALUE=DATE:20201210
DTEND;VALUE=DATE:20201210
SUMMARY:Integration Period
DESCRIPTION:First Semester AY 2020-2021
CATEGORIES:Regular,First Semester AY 2020-2021,Class-Related Events
END:VEVENT
BEGIN:VEVENT
DTSTAMP:20260420T115908Z
UID:20260420T115908Z69e5a48cbf676@crs.upd.edu.ph
DTSTART;VALUE=DATE:20201211
DTEND;VALUE=DATE:20201218
SUMMARY:Final Examinations
DESCRIPTION:First Semester AY 2020-2021
CATEGORIES:Regular,First Semester AY 2020-2021,Class-Related Events
END:VEVENT
BEGIN:VEVENT
DTSTAMP:20260420T115908Z
UID:20260420T115908Z69e5a48cbf67a@crs.upd.edu.ph
DTSTART;VALUE=DATE:20210122
DTEND;VALUE=DATE:19700101
SUMMARY:Deadline of Grade Submission for All Students
DESCRIPTION:First Semester AY 2020-2021
CATEGORIES:Regular,First Semester AY 2020-2021,Deadline
END:VEVENT
BEGIN:VEVENT
DTSTAMP:20260420T115908Z
UID:20260420T115908Z69e5a48cbf67d@crs.upd.edu.ph
DTSTART;VALUE=DATE-TIME:20210129T000000Z
DTEND;VALUE=DATE-TIME:19700101T080000Z
SUMMARY:SET Results Availability
DESCRIPTION:First Semester AY 2020-2021
CATEGORIES:Regular,First Semester AY 2020-2021,General
END:VEVENT
BEGIN:VEVENT
DTSTAMP:20260420T115908Z
UID:20260420T115908Z69e5a48cbf680@crs.upd.edu.ph
DTSTART;VALUE=DATE:20210207
DTEND;VALUE=DATE:19700101
SUMMARY:Last Day of Enrollment for Residency Purposes
DESCRIPTION:First Semester AY 2020-2021
CATEGORIES:Regular,First Semester AY 2020-2021,Registration Events
END:VEVENT
END:VCALENDAR
