BEGIN:VCALENDAR
VERSION:2.0
PRODID:-//UPD CRS//NONSGML Academic Calendar//EN
BEGIN:VEVENT
DTSTAMP:20260423T064226Z
UID:20260423T064226Z69e94ed2d9f89@crs.upd.edu.ph
DTSTART;VALUE=DATE:20210104
DTEND;VALUE=DATE:20210128
SUMMARY:Removal Examination Period
CATEGORIES:Regular,Second Semester AY 2020-2021,Class-Related Events
END:VEVENT
BEGIN:VEVENT
DTSTAMP:20260423T064226Z
UID:20260423T064226Z69e94ed2d9f8c@crs.upd.edu.ph
DTSTART;VALUE=DATE:20210125
DTEND;VALUE=DATE:20210218
SUMMARY:Validation for Advanced Credit
CATEGORIES:Regular,Second Semester AY 2020-2021,Class-Related Events
END:VEVENT
BEGIN:VEVENT
DTSTAMP:20260423T064226Z
UID:20260423T064226Z69e94ed2d9f8e@crs.upd.edu.ph
DTSTART;VALUE=DATE-TIME:20210201T235959Z
DTEND;VALUE=DATE-TIME:19700101T080000Z
SUMMARY:Deadline for Colleges to Submit Appeals/Cases for 
 CSAPG Consideration
CATEGORIES:Regular,Second Semester AY 2020-2021,Deadline
END:VEVENT
BEGIN:VEVENT
DTSTAMP:20260423T064226Z
UID:20260423T064226Z69e94ed2d9f8f@crs.upd.edu.ph
DTSTART;VALUE=DATE:20210203
DTEND;VALUE=DATE:20210205
SUMMARY:General Waitlisting Period
DESCRIPTION:Second Semester AY 2020-2021
CATEGORIES:Regular,Second Semester AY 2020-2021,Time Period
END:VEVENT
BEGIN:VEVENT
DTSTAMP:20260423T064226Z
UID:20260423T064226Z69e94ed2d9f91@crs.upd.edu.ph
DTSTART;VALUE=DATE-TIME:20210208T000000Z
DTEND;VALUE=DATE-TIME:20210210T235959Z
SUMMARY:General Registration for Freshmen\, Graduating\, PWD
 s\, Varsity\, HASPAG\, and Graduate Students
DESCRIPTION:Second Semester AY 2020-2021
CATEGORIES:Regular,Second Semester AY 2020-2021,Registration Events
END:VEVENT
BEGIN:VEVENT
DTSTAMP:20260423T064226Z
UID:20260423T064226Z69e94ed2d9f93@crs.upd.edu.ph
DTSTART;VALUE=DATE-TIME:20210208T000000Z
DTEND;VALUE=DATE-TIME:20210725T235959Z
SUMMARY:Term Duration for Grade Completion
CATEGORIES:Regular,Second Semester AY 2020-2021,Time Period
END:VEVENT
BEGIN:VEVENT
DTSTAMP:20260423T064226Z
UID:20260423T064226Z69e94ed2d9f94@crs.upd.edu.ph
DTSTART;VALUE=DATE:20210208
DTEND;VALUE=DATE:20210725
SUMMARY:Academic Term Duration
DESCRIPTION:Second Semester AY 2020-2021
CATEGORIES:Regular,Second Semester AY 2020-2021,Time Period
END:VEVENT
BEGIN:VEVENT
DTSTAMP:20260423T064226Z
UID:20260423T064226Z69e94ed2d9f96@crs.upd.edu.ph
DTSTART;VALUE=DATE-TIME:20210208T000000Z
DTEND;VALUE=DATE-TIME:20210210T235959Z
SUMMARY:General Registration
DESCRIPTION:Second Semester AY 2020-2021
CATEGORIES:Regular,Second Semester AY 2020-2021,Registration Events
END:VEVENT
BEGIN:VEVENT
DTSTAMP:20260423T064226Z
UID:20260423T064226Z69e94ed2d9f98@crs.upd.edu.ph
DTSTART;VALUE=DATE-TIME:20210209T000000Z
DTEND;VALUE=DATE-TIME:20210210T235959Z
SUMMARY:General Registration for All UPD Undergraduate and
  Graduate Students
DESCRIPTION:Second Semester AY 2020-2021
CATEGORIES:Regular,Second Semester AY 2020-2021,Registration Events
END:VEVENT
BEGIN:VEVENT
DTSTAMP:20260423T064226Z
UID:20260423T064226Z69e94ed2d9f99@crs.upd.edu.ph
DTSTART;VALUE=DATE-TIME:20210209T040000Z
DTEND;VALUE=DATE-TIME:19700101T080000Z
SUMMARY:Auto-Relinquish Date
DESCRIPTION:Second Semester AY 2020-2021
CATEGORIES:Regular,Second Semester AY 2020-2021,Class-Related Events
END:VEVENT
BEGIN:VEVENT
DTSTAMP:20260423T064226Z
UID:20260423T064226Z69e94ed2d9f9b@crs.upd.edu.ph
DTSTART;VALUE=DATE-TIME:20210210T000000Z
DTEND;VALUE=DATE-TIME:20210210T235959Z
SUMMARY:General Registration for All Students\, including C
 ross-Registrants/Non-Degree/Special Students
DESCRIPTION:Second Semester AY 2020-2021
CATEGORIES:Regular,Second Semester AY 2020-2021,Registration Events
END:VEVENT
BEGIN:VEVENT
DTSTAMP:20260423T064226Z
UID:20260423T064226Z69e94ed2d9f9d@crs.upd.edu.ph
DTSTART;VALUE=DATE-TIME:20210217T000000Z
DTEND;VALUE=DATE-TIME:19700101T080000Z
SUMMARY:Committee On Student Admissions\, Progress and Grad
 uation (CSAPG) Meeting
CATEGORIES:Regular,Second Semester AY 2020-2021,Meeting
END:VEVENT
BEGIN:VEVENT
DTSTAMP:20260423T064226Z
UID:20260423T064226Z69e94ed2d9f9e@crs.upd.edu.ph
DTSTART;VALUE=DATE:20210301
DTEND;VALUE=DATE:20210611
SUMMARY:Official Class Period
DESCRIPTION:Second Semester AY 2020-2021
CATEGORIES:Regular,Second Semester AY 2020-2021,Class-Related Events
END:VEVENT
BEGIN:VEVENT
DTSTAMP:20260423T064226Z
UID:20260423T064226Z69e94ed2d9fa0@crs.upd.edu.ph
DTSTART;VALUE=DATE-TIME:20210301T235959Z
DTEND;VALUE=DATE-TIME:19700101T080000Z
SUMMARY:Deadline for Students to Withdraw Enlistments
DESCRIPTION:Second Semester AY 2020-2021
CATEGORIES:Regular,Second Semester AY 2020-2021,Deadline
END:VEVENT
BEGIN:VEVENT
DTSTAMP:20260423T064226Z
UID:20260423T064226Z69e94ed2d9fa2@crs.upd.edu.ph
DTSTART;VALUE=DATE-TIME:20210323T235959Z
DTEND;VALUE=DATE-TIME:19700101T080000Z
SUMMARY:Deadline for Colleges to Submit to OUR the Tentati
 ve List of Candidates for Graduation
DESCRIPTION:2nd 2020-2021
CATEGORIES:Regular,Second Semester AY 2020-2021,Deadline
END:VEVENT
BEGIN:VEVENT
DTSTAMP:20260423T064226Z
UID:20260423T064226Z69e94ed2d9fa3@crs.upd.edu.ph
DTSTART;VALUE=DATE-TIME:20210331T000000Z
DTEND;VALUE=DATE-TIME:19700101T080000Z
SUMMARY:Last Day of Payment for Change of Matriculation
DESCRIPTION:Second Semester AY 2020-2021
CATEGORIES:Regular,Second Semester AY 2020-2021,Deadline
END:VEVENT
BEGIN:VEVENT
DTSTAMP:20260423T064226Z
UID:20260423T064226Z69e94ed2d9fa5@crs.upd.edu.ph
DTSTART;VALUE=DATE-TIME:20210331T000000Z
DTEND;VALUE=DATE-TIME:19700101T080000Z
SUMMARY:Last Day of Payment for Registration
DESCRIPTION:Second Semester AY 2020-2021
CATEGORIES:Regular,Second Semester AY 2020-2021,Deadline
END:VEVENT
BEGIN:VEVENT
DTSTAMP:20260423T064226Z
UID:20260423T064226Z69e94ed2d9fa6@crs.upd.edu.ph
DTSTART;VALUE=DATE:20210424
DTEND;VALUE=DATE:19700101
SUMMARY:Mid-Semester
CATEGORIES:Regular,Second Semester AY 2020-2021,Class-Related Events
END:VEVENT
BEGIN:VEVENT
DTSTAMP:20260423T064226Z
UID:20260423T064226Z69e94ed2d9fa8@crs.upd.edu.ph
DTSTART;VALUE=DATE-TIME:20210611T235959Z
DTEND;VALUE=DATE-TIME:19700101T080000Z
SUMMARY:Deadline for Dropping of Subjects
DESCRIPTION:Second Semester 2020-2021 (per OVPAA Memo No. 2021
 -61A)
CATEGORIES:Regular,Second Semester AY 2020-2021,Deadline
END:VEVENT
BEGIN:VEVENT
DTSTAMP:20260423T064226Z
UID:20260423T064226Z69e94ed2d9faa@crs.upd.edu.ph
DTSTART;VALUE=DATE-TIME:20210611T235959Z
DTEND;VALUE=DATE-TIME:19700101T080000Z
SUMMARY:Deadline for Filing Leave of Absence (LOA)
DESCRIPTION:Second Semester 2020-2021 (per OVPAA Memo No. 2021
 -61A)
CATEGORIES:Regular,Second Semester AY 2020-2021,Deadline
END:VEVENT
BEGIN:VEVENT
DTSTAMP:20260423T064226Z
UID:20260423T064226Z69e94ed2d9fab@crs.upd.edu.ph
DTSTART;VALUE=DATE-TIME:20210612T000000Z
DTEND;VALUE=DATE-TIME:20220731T235959Z
SUMMARY:Period for Grade Completion
DESCRIPTION:Second Semester AY 2020-2021
CATEGORIES:Regular,Second Semester AY 2020-2021,Time Period
END:VEVENT
BEGIN:VEVENT
DTSTAMP:20260423T064226Z
UID:20260423T064226Z69e94ed2d9fad@crs.upd.edu.ph
DTSTART;VALUE=DATE:20210614
DTEND;VALUE=DATE:20210619
SUMMARY:Final Examinations
CATEGORIES:Regular,Second Semester AY 2020-2021,Class-Related Events
END:VEVENT
BEGIN:VEVENT
DTSTAMP:20260423T064226Z
UID:20260423T064226Z69e94ed2d9faf@crs.upd.edu.ph
DTSTART;VALUE=DATE-TIME:20210619T235959Z
DTEND;VALUE=DATE-TIME:19700101T080000Z
SUMMARY:Last Day for Graduating Students to Clear Their De
 ficiencies
CATEGORIES:Regular,Second Semester AY 2020-2021,Deadline
END:VEVENT
BEGIN:VEVENT
DTSTAMP:20260423T064226Z
UID:20260423T064226Z69e94ed2d9fb0@crs.upd.edu.ph
DTSTART;VALUE=DATE:20210703
DTEND;VALUE=DATE:19700101
SUMMARY:Deadline of Grade Submission for All Students
DESCRIPTION:Second Semester AY 2020-2021
CATEGORIES:Regular,Second Semester AY 2020-2021,Deadline
END:VEVENT
BEGIN:VEVENT
DTSTAMP:20260423T064226Z
UID:20260423T064226Z69e94ed2d9fb2@crs.upd.edu.ph
DTSTART;VALUE=DATE-TIME:20210709T000000Z
DTEND;VALUE=DATE-TIME:19700101T080000Z
SUMMARY:SET Results Availability
DESCRIPTION:Second Semester AY 2020-2021
CATEGORIES:Regular,Second Semester AY 2020-2021,General
END:VEVENT
BEGIN:VEVENT
DTSTAMP:20260423T064226Z
UID:20260423T064226Z69e94ed2d9fb3@crs.upd.edu.ph
DTSTART;VALUE=DATE:20210725
DTEND;VALUE=DATE:19700101
SUMMARY:Last Day of Enrollment for Residency Purposes
DESCRIPTION:Second Semester AY 2020-2021
CATEGORIES:Regular,Second Semester AY 2020-2021,Registration Events
END:VEVENT
END:VCALENDAR
