BEGIN:VCALENDAR
VERSION:2.0
PRODID:-//UPD CRS//NONSGML Academic Calendar//EN
BEGIN:VEVENT
DTSTAMP:20260422T110138Z
UID:20260422T110138Z69e83a12e6922@crs.upd.edu.ph
DTSTART;VALUE=DATE:20220531
DTEND;VALUE=DATE:20220624
SUMMARY:Validation for Advanced Credit
CATEGORIES:Regular,Midyear Term 2022,Class-Related Events
END:VEVENT
BEGIN:VEVENT
DTSTAMP:20260422T110138Z
UID:20260422T110138Z69e83a12e6925@crs.upd.edu.ph
DTSTART;VALUE=DATE-TIME:20220606T000000Z
DTEND;VALUE=DATE-TIME:19700101T080000Z
SUMMARY:Curriculum Committee Meeting
CATEGORIES:Regular,Midyear Term 2022,Meeting
END:VEVENT
BEGIN:VEVENT
DTSTAMP:20260422T110138Z
UID:20260422T110138Z69e83a12e6927@crs.upd.edu.ph
DTSTART;VALUE=DATE:20220606
DTEND;VALUE=DATE:20220610
SUMMARY:Removal Examination Period
CATEGORIES:Regular,Midyear Term 2022,Class-Related Events
END:VEVENT
BEGIN:VEVENT
DTSTAMP:20260422T110138Z
UID:20260422T110138Z69e83a12e6929@crs.upd.edu.ph
DTSTART;VALUE=DATE:20220613
DTEND;VALUE=DATE:20220614
SUMMARY:General Waitlisting Period
CATEGORIES:Regular,Midyear Term 2022,Time Period
END:VEVENT
BEGIN:VEVENT
DTSTAMP:20260422T110138Z
UID:20260422T110138Z69e83a12e692b@crs.upd.edu.ph
DTSTART;VALUE=DATE:20220615
DTEND;VALUE=DATE:20220829
SUMMARY:Academic Term Duration
CATEGORIES:Regular,Midyear Term 2022,Time Period
END:VEVENT
BEGIN:VEVENT
DTSTAMP:20260422T110138Z
UID:20260422T110138Z69e83a12e692d@crs.upd.edu.ph
DTSTART;VALUE=DATE-TIME:20220615T000000Z
DTEND;VALUE=DATE-TIME:20220616T235959Z
SUMMARY:General Registration for Freshmen\, Graduating\, PWD
 s\, Varsity\, HASPAG\, and Graduate Students
CATEGORIES:Regular,Midyear Term 2022,Registration Events
END:VEVENT
BEGIN:VEVENT
DTSTAMP:20260422T110138Z
UID:20260422T110138Z69e83a12e692f@crs.upd.edu.ph
DTSTART;VALUE=DATE-TIME:20220615T000000Z
DTEND;VALUE=DATE-TIME:20220616T235959Z
SUMMARY:General Registration for All UPD Undergraduate and
  Graduate Students
CATEGORIES:Regular,Midyear Term 2022,Registration Events
END:VEVENT
BEGIN:VEVENT
DTSTAMP:20260422T110138Z
UID:20260422T110138Z69e83a12e6930@crs.upd.edu.ph
DTSTART;VALUE=DATE-TIME:20220615T000000Z
DTEND;VALUE=DATE-TIME:20220829T235959Z
SUMMARY:Term Duration for Grade Completion
DESCRIPTION:Midyear 2022
CATEGORIES:Regular,Midyear Term 2022,Time Period
END:VEVENT
BEGIN:VEVENT
DTSTAMP:20260422T110138Z
UID:20260422T110138Z69e83a12e6932@crs.upd.edu.ph
DTSTART;VALUE=DATE-TIME:20220616T000000Z
DTEND;VALUE=DATE-TIME:20220616T235959Z
SUMMARY:General Registration for All Students\, including C
 ross-Registrants/Non-Degree/Special Students
CATEGORIES:Regular,Midyear Term 2022,Registration Events
END:VEVENT
BEGIN:VEVENT
DTSTAMP:20260422T110138Z
UID:20260422T110138Z69e83a12e6934@crs.upd.edu.ph
DTSTART;VALUE=DATE-TIME:20220616T040000Z
DTEND;VALUE=DATE-TIME:19700101T080000Z
SUMMARY:Auto-Relinquish Date
CATEGORIES:Regular,Midyear Term 2022,Class-Related Events
END:VEVENT
BEGIN:VEVENT
DTSTAMP:20260422T110138Z
UID:20260422T110138Z69e83a12e6936@crs.upd.edu.ph
DTSTART;VALUE=DATE:20220620
DTEND;VALUE=DATE:20220806
SUMMARY:Official Class Period
CATEGORIES:Regular,Midyear Term 2022,Class-Related Events
END:VEVENT
BEGIN:VEVENT
DTSTAMP:20260422T110138Z
UID:20260422T110138Z69e83a12e6937@crs.upd.edu.ph
DTSTART;VALUE=DATE-TIME:20220620T235959Z
DTEND;VALUE=DATE-TIME:19700101T080000Z
SUMMARY:Deadline for Students to Withdraw Enlistments
CATEGORIES:Regular,Midyear Term 2022,Deadline
END:VEVENT
BEGIN:VEVENT
DTSTAMP:20260422T110138Z
UID:20260422T110138Z69e83a12e6939@crs.upd.edu.ph
DTSTART;VALUE=DATE-TIME:20220624T235959Z
DTEND;VALUE=DATE-TIME:19700101T080000Z
SUMMARY:Last Day of Payment for Registration
CATEGORIES:Regular,Midyear Term 2022,Deadline
END:VEVENT
BEGIN:VEVENT
DTSTAMP:20260422T110138Z
UID:20260422T110138Z69e83a12e693b@crs.upd.edu.ph
DTSTART;VALUE=DATE-TIME:20220624T235959Z
DTEND;VALUE=DATE-TIME:19700101T080000Z
SUMMARY:Last Day of Payment for Change of Matriculation
CATEGORIES:Regular,Midyear Term 2022,Deadline
END:VEVENT
BEGIN:VEVENT
DTSTAMP:20260422T110138Z
UID:20260422T110138Z69e83a12e693d@crs.upd.edu.ph
DTSTART;VALUE=DATE-TIME:20220628T235959Z
DTEND;VALUE=DATE-TIME:19700101T080000Z
SUMMARY:Deadline for Colleges to Submit to OUR the Approve
 d List of Candidates for Graduation
DESCRIPTION:2nd 2021-2022
CATEGORIES:Regular,Midyear Term 2022,Deadline
END:VEVENT
BEGIN:VEVENT
DTSTAMP:20260422T110138Z
UID:20260422T110138Z69e83a12e693f@crs.upd.edu.ph
DTSTART;VALUE=DATE:20220705
DTEND;VALUE=DATE:19700101
SUMMARY:Mid-Semester
CATEGORIES:Regular,Midyear Term 2022,Class-Related Events
END:VEVENT
BEGIN:VEVENT
DTSTAMP:20260422T110138Z
UID:20260422T110138Z69e83a12e6941@crs.upd.edu.ph
DTSTART;VALUE=DATE-TIME:20220705T235959Z
DTEND;VALUE=DATE-TIME:19700101T080000Z
SUMMARY:Deadline for Colleges to Submit to OUR the Tentati
 ve List of Candidates for Graduation
DESCRIPTION:Midyear 2022
CATEGORIES:Regular,Midyear Term 2022,Deadline
END:VEVENT
BEGIN:VEVENT
DTSTAMP:20260422T110138Z
UID:20260422T110138Z69e83a12e6943@crs.upd.edu.ph
DTSTART;VALUE=DATE-TIME:20220705T235959Z
DTEND;VALUE=DATE-TIME:19700101T080000Z
SUMMARY:Deadline of Application for Graduation for Graduat
 ing Students
DESCRIPTION:Midyear 2022
CATEGORIES:Regular,Midyear Term 2022,Deadline
END:VEVENT
BEGIN:VEVENT
DTSTAMP:20260422T110138Z
UID:20260422T110138Z69e83a12e6944@crs.upd.edu.ph
DTSTART;VALUE=DATE-TIME:20220707T235959Z
DTEND;VALUE=DATE-TIME:19700101T080000Z
SUMMARY:Last Day for Graduating Students to Clear Their De
 ficiencies
DESCRIPTION:Midyear 2022
CATEGORIES:Regular,Midyear Term 2022,Deadline
END:VEVENT
BEGIN:VEVENT
DTSTAMP:20260422T110138Z
UID:20260422T110138Z69e83a12e6946@crs.upd.edu.ph
DTSTART;VALUE=DATE-TIME:20220714T235959Z
DTEND;VALUE=DATE-TIME:19700101T080000Z
SUMMARY:Deadline for Dropping of Subjects
CATEGORIES:Regular,Midyear Term 2022,Deadline
END:VEVENT
BEGIN:VEVENT
DTSTAMP:20260422T110138Z
UID:20260422T110138Z69e83a12e6948@crs.upd.edu.ph
DTSTART;VALUE=DATE-TIME:20220720T000000Z
DTEND;VALUE=DATE-TIME:19700101T080000Z
SUMMARY:University Council Meeting to Recommend for BOR Ap
 proval the List of Candidates for Graduation
DESCRIPTION:2nd 2021-2022
CATEGORIES:Regular,Midyear Term 2022,Meeting
END:VEVENT
BEGIN:VEVENT
DTSTAMP:20260422T110138Z
UID:20260422T110138Z69e83a12e694a@crs.upd.edu.ph
DTSTART;VALUE=DATE-TIME:20220802T235959Z
DTEND;VALUE=DATE-TIME:19700101T080000Z
SUMMARY:Deadline for Colleges to Submit Appeals/Cases for 
 CSAPG Consideration
CATEGORIES:Regular,Midyear Term 2022,Deadline
END:VEVENT
BEGIN:VEVENT
DTSTAMP:20260422T110138Z
UID:20260422T110138Z69e83a12e694b@crs.upd.edu.ph
DTSTART;VALUE=DATE-TIME:20220805T235959Z
DTEND;VALUE=DATE-TIME:19700101T080000Z
SUMMARY:Deadline for Filing Leave of Absence (LOA)
CATEGORIES:Regular,Midyear Term 2022,Deadline
END:VEVENT
BEGIN:VEVENT
DTSTAMP:20260422T110138Z
UID:20260422T110138Z69e83a12e694d@crs.upd.edu.ph
DTSTART;VALUE=DATE:20220808
DTEND;VALUE=DATE:19700101
SUMMARY:Integration Period
CATEGORIES:Regular,Midyear Term 2022,Class-Related Events
END:VEVENT
BEGIN:VEVENT
DTSTAMP:20260422T110138Z
UID:20260422T110138Z69e83a12e694f@crs.upd.edu.ph
DTSTART;VALUE=DATE:20220809
DTEND;VALUE=DATE:20220811
SUMMARY:Final Examinations
CATEGORIES:Regular,Midyear Term 2022,Class-Related Events
END:VEVENT
BEGIN:VEVENT
DTSTAMP:20260422T110138Z
UID:20260422T110138Z69e83a12e6951@crs.upd.edu.ph
DTSTART;VALUE=DATE-TIME:20220809T000000Z
DTEND;VALUE=DATE-TIME:20230905T235959Z
SUMMARY:Period for Grade Completion
DESCRIPTION:Midyear 2022
CATEGORIES:Regular,Midyear Term 2022,Time Period
END:VEVENT
BEGIN:VEVENT
DTSTAMP:20260422T110138Z
UID:20260422T110138Z69e83a12e6952@crs.upd.edu.ph
DTSTART;VALUE=DATE-TIME:20220815T000000Z
DTEND;VALUE=DATE-TIME:19700101T080000Z
SUMMARY:Committee On Student Admissions\, Progress and Grad
 uation (CSAPG) Meeting
CATEGORIES:Regular,Midyear Term 2022,Meeting
END:VEVENT
BEGIN:VEVENT
DTSTAMP:20260422T110138Z
UID:20260422T110138Z69e83a12e6954@crs.upd.edu.ph
DTSTART;VALUE=DATE:20220820
DTEND;VALUE=DATE:19700101
SUMMARY:Deadline of Grade Submission for All Students
CATEGORIES:Regular,Midyear Term 2022,Deadline
END:VEVENT
BEGIN:VEVENT
DTSTAMP:20260422T110138Z
UID:20260422T110138Z69e83a12e6956@crs.upd.edu.ph
DTSTART;VALUE=DATE-TIME:20220827T000000Z
DTEND;VALUE=DATE-TIME:19700101T080000Z
SUMMARY:SET Results Availability
CATEGORIES:Regular,Midyear Term 2022,General
END:VEVENT
BEGIN:VEVENT
DTSTAMP:20260422T110138Z
UID:20260422T110138Z69e83a12e6958@crs.upd.edu.ph
DTSTART;VALUE=DATE:20220829
DTEND;VALUE=DATE:19700101
SUMMARY:Last Day of Enrollment for Residency Purposes
CATEGORIES:Regular,Midyear Term 2022,Registration Events
END:VEVENT
END:VCALENDAR
