BEGIN:VCALENDAR
VERSION:2.0
PRODID:-//UPD CRS//NONSGML Academic Calendar//EN
BEGIN:VEVENT
DTSTAMP:20260425T234158Z
UID:20260425T234158Z69ece0c6e79bc@crs.upd.edu.ph
DTSTART;VALUE=DATE-TIME:20201027T000000Z
DTEND;VALUE=DATE-TIME:20201028T235959Z
SUMMARY:General Registration
CATEGORIES:MBA and MS Fin,First Trimester AY 2020-2021,Registration Events
END:VEVENT
BEGIN:VEVENT
DTSTAMP:20260425T234158Z
UID:20260425T234158Z69ece0c6e79bf@crs.upd.edu.ph
DTSTART;VALUE=DATE:20201027
DTEND;VALUE=DATE:20210228
SUMMARY:Academic Term Duration
CATEGORIES:MBA and MS Fin,First Trimester AY 2020-2021,Time Period
END:VEVENT
BEGIN:VEVENT
DTSTAMP:20260425T234158Z
UID:20260425T234158Z69ece0c6e79c1@crs.upd.edu.ph
DTSTART;VALUE=DATE-TIME:20201027T000000Z
DTEND;VALUE=DATE-TIME:20210228T235959Z
SUMMARY:Term Duration for Grade Completion
CATEGORIES:MBA and MS Fin,First Trimester AY 2020-2021,Time Period
END:VEVENT
BEGIN:VEVENT
DTSTAMP:20260425T234158Z
UID:20260425T234158Z69ece0c6e79c3@crs.upd.edu.ph
DTSTART;VALUE=DATE:20201029
DTEND;VALUE=DATE:20210210
SUMMARY:Official Class Period
CATEGORIES:MBA and MS Fin,First Trimester AY 2020-2021,Class-Related Events
END:VEVENT
BEGIN:VEVENT
DTSTAMP:20260425T234158Z
UID:20260425T234158Z69ece0c6e79c4@crs.upd.edu.ph
DTSTART;VALUE=DATE:20201103
DTEND;VALUE=DATE:19700101
SUMMARY:Deadline for Late Registration
CATEGORIES:MBA and MS Fin,First Trimester AY 2020-2021,Registration Events
END:VEVENT
BEGIN:VEVENT
DTSTAMP:20260425T234158Z
UID:20260425T234158Z69ece0c6e79c6@crs.upd.edu.ph
DTSTART;VALUE=DATE-TIME:20201106T000000Z
DTEND;VALUE=DATE-TIME:19700101T080000Z
SUMMARY:Last Day of Payment for Registration
DESCRIPTION:First Trimester AY 2020-2021
CATEGORIES:MBA and MS Fin,First Trimester AY 2020-2021,Deadline
END:VEVENT
BEGIN:VEVENT
DTSTAMP:20260425T234158Z
UID:20260425T234158Z69ece0c6e79c7@crs.upd.edu.ph
DTSTART;VALUE=DATE-TIME:20201106T000000Z
DTEND;VALUE=DATE-TIME:19700101T080000Z
SUMMARY:Last Day of Payment for Change of Matriculation
DESCRIPTION:First Trimester AY 2020-2021
CATEGORIES:MBA and MS Fin,First Trimester AY 2020-2021,Deadline
END:VEVENT
BEGIN:VEVENT
DTSTAMP:20260425T234158Z
UID:20260425T234158Z69ece0c6e79c9@crs.upd.edu.ph
DTSTART;VALUE=DATE:20201218
DTEND;VALUE=DATE:19700101
SUMMARY:Mid-Trimester
CATEGORIES:MBA and MS Fin,First Trimester AY 2020-2021,Class-Related Events
END:VEVENT
BEGIN:VEVENT
DTSTAMP:20260425T234158Z
UID:20260425T234158Z69ece0c6e79ca@crs.upd.edu.ph
DTSTART;VALUE=DATE-TIME:20210120T235959Z
DTEND;VALUE=DATE-TIME:19700101T080000Z
SUMMARY:Deadline for Dropping of Subjects
CATEGORIES:MBA and MS Fin,First Trimester AY 2020-2021,Deadline
END:VEVENT
BEGIN:VEVENT
DTSTAMP:20260425T234158Z
UID:20260425T234158Z69ece0c6e79cc@crs.upd.edu.ph
DTSTART;VALUE=DATE-TIME:20210127T235959Z
DTEND;VALUE=DATE-TIME:19700101T080000Z
SUMMARY:Deadline for Filing Leave of Absence (LOA)
CATEGORIES:MBA and MS Fin,First Trimester AY 2020-2021,Deadline
END:VEVENT
BEGIN:VEVENT
DTSTAMP:20260425T234158Z
UID:20260425T234158Z69ece0c6e79ce@crs.upd.edu.ph
DTSTART;VALUE=DATE-TIME:20210203T235959Z
DTEND;VALUE=DATE-TIME:19700101T080000Z
SUMMARY:Deadline of Application for Graduation for Graduat
 ing Students
CATEGORIES:MBA and MS Fin,First Trimester AY 2020-2021,Deadline
END:VEVENT
BEGIN:VEVENT
DTSTAMP:20260425T234158Z
UID:20260425T234158Z69ece0c6e79cf@crs.upd.edu.ph
DTSTART;VALUE=DATE:20210211
DTEND;VALUE=DATE:20210216
SUMMARY:Final Examinations
CATEGORIES:MBA and MS Fin,First Trimester AY 2020-2021,Class-Related Events
END:VEVENT
BEGIN:VEVENT
DTSTAMP:20260425T234158Z
UID:20260425T234158Z69ece0c6e79d1@crs.upd.edu.ph
DTSTART;VALUE=DATE-TIME:20210211T000000Z
DTEND;VALUE=DATE-TIME:20220227T235959Z
SUMMARY:Period for Grade Completion
CATEGORIES:MBA and MS Fin,First Trimester AY 2020-2021,Time Period
END:VEVENT
BEGIN:VEVENT
DTSTAMP:20260425T234158Z
UID:20260425T234158Z69ece0c6e79d2@crs.upd.edu.ph
DTSTART;VALUE=DATE:20210226
DTEND;VALUE=DATE:19700101
SUMMARY:Deadline of Grade Submission for All Students
CATEGORIES:MBA and MS Fin,First Trimester AY 2020-2021,Deadline
END:VEVENT
BEGIN:VEVENT
DTSTAMP:20260425T234158Z
UID:20260425T234158Z69ece0c6e79d4@crs.upd.edu.ph
DTSTART;VALUE=DATE:20210228
DTEND;VALUE=DATE:19700101
SUMMARY:Last Day of Enrollment for Residency Purposes
DESCRIPTION:First Trimester AY 2020-2021
CATEGORIES:MBA and MS Fin,First Trimester AY 2020-2021,Registration Events
END:VEVENT
END:VCALENDAR
