BEGIN:VCALENDAR
VERSION:2.0
PRODID:-//UPD CRS//NONSGML Academic Calendar//EN
BEGIN:VEVENT
DTSTAMP:20260424T191625Z
UID:20260424T191625Z69eb510965b11@crs.upd.edu.ph
DTSTART;VALUE=DATE-TIME:20220228T000000Z
DTEND;VALUE=DATE-TIME:20220302T235959Z
SUMMARY:General Registration
CATEGORIES:MBA and MS Fin,Second Trimester AY 2021-2022,Registration Events
END:VEVENT
BEGIN:VEVENT
DTSTAMP:20260424T191625Z
UID:20260424T191625Z69eb510965b14@crs.upd.edu.ph
DTSTART;VALUE=DATE:20220228
DTEND;VALUE=DATE:20220703
SUMMARY:Academic Term Duration
DESCRIPTION:2nd 2021-2022
CATEGORIES:MBA and MS Fin,Second Trimester AY 2021-2022,Time Period
END:VEVENT
BEGIN:VEVENT
DTSTAMP:20260424T191625Z
UID:20260424T191625Z69eb510965b16@crs.upd.edu.ph
DTSTART;VALUE=DATE-TIME:20220228T000000Z
DTEND;VALUE=DATE-TIME:20220703T235959Z
SUMMARY:Term Duration for Grade Completion
CATEGORIES:MBA and MS Fin,Second Trimester AY 2021-2022,Time Period
END:VEVENT
BEGIN:VEVENT
DTSTAMP:20260424T191625Z
UID:20260424T191625Z69eb510965b17@crs.upd.edu.ph
DTSTART;VALUE=DATE:20220303
DTEND;VALUE=DATE:20220610
SUMMARY:Official Class Period
CATEGORIES:MBA and MS Fin,Second Trimester AY 2021-2022,Class-Related Events
END:VEVENT
BEGIN:VEVENT
DTSTAMP:20260424T191625Z
UID:20260424T191625Z69eb510965b19@crs.upd.edu.ph
DTSTART;VALUE=DATE-TIME:20220303T000000Z
DTEND;VALUE=DATE-TIME:19700101T080000Z
SUMMARY:Deadline for Students to Withdraw Enlistments
CATEGORIES:MBA and MS Fin,Second Trimester AY 2021-2022,Deadline
END:VEVENT
BEGIN:VEVENT
DTSTAMP:20260424T191625Z
UID:20260424T191625Z69eb510965b1a@crs.upd.edu.ph
DTSTART;VALUE=DATE:20220310
DTEND;VALUE=DATE:19700101
SUMMARY:Deadline for Late Registration
CATEGORIES:MBA and MS Fin,Second Trimester AY 2021-2022,Registration Events
END:VEVENT
BEGIN:VEVENT
DTSTAMP:20260424T191625Z
UID:20260424T191625Z69eb510965b1c@crs.upd.edu.ph
DTSTART;VALUE=DATE-TIME:20220310T235959Z
DTEND;VALUE=DATE-TIME:19700101T080000Z
SUMMARY:Last Day of Payment for Change of Matriculation
CATEGORIES:MBA and MS Fin,Second Trimester AY 2021-2022,Deadline
END:VEVENT
BEGIN:VEVENT
DTSTAMP:20260424T191625Z
UID:20260424T191625Z69eb510965b1e@crs.upd.edu.ph
DTSTART;VALUE=DATE-TIME:20220310T235959Z
DTEND;VALUE=DATE-TIME:19700101T080000Z
SUMMARY:Last Day of Payment for Registration
CATEGORIES:MBA and MS Fin,Second Trimester AY 2021-2022,Deadline
END:VEVENT
BEGIN:VEVENT
DTSTAMP:20260424T191625Z
UID:20260424T191625Z69eb510965b1f@crs.upd.edu.ph
DTSTART;VALUE=DATE:20220505
DTEND;VALUE=DATE:19700101
SUMMARY:Mid-Trimester
CATEGORIES:MBA and MS Fin,Second Trimester AY 2021-2022,Class-Related Events
END:VEVENT
BEGIN:VEVENT
DTSTAMP:20260424T191625Z
UID:20260424T191625Z69eb510965b21@crs.upd.edu.ph
DTSTART;VALUE=DATE-TIME:20220520T235959Z
DTEND;VALUE=DATE-TIME:19700101T080000Z
SUMMARY:Deadline for Dropping of Subjects
CATEGORIES:MBA and MS Fin,Second Trimester AY 2021-2022,Deadline
END:VEVENT
BEGIN:VEVENT
DTSTAMP:20260424T191625Z
UID:20260424T191625Z69eb510965b22@crs.upd.edu.ph
DTSTART;VALUE=DATE-TIME:20220527T235959Z
DTEND;VALUE=DATE-TIME:19700101T080000Z
SUMMARY:Deadline for Filing Leave of Absence (LOA)
CATEGORIES:MBA and MS Fin,Second Trimester AY 2021-2022,Deadline
END:VEVENT
BEGIN:VEVENT
DTSTAMP:20260424T191625Z
UID:20260424T191625Z69eb510965b24@crs.upd.edu.ph
DTSTART;VALUE=DATE-TIME:20220603T235959Z
DTEND;VALUE=DATE-TIME:19700101T080000Z
SUMMARY:Deadline of Application for Graduation for Graduat
 ing Students
CATEGORIES:MBA and MS Fin,Second Trimester AY 2021-2022,Deadline
END:VEVENT
BEGIN:VEVENT
DTSTAMP:20260424T191625Z
UID:20260424T191625Z69eb510965b26@crs.upd.edu.ph
DTSTART;VALUE=DATE:20220611
DTEND;VALUE=DATE:20220615
SUMMARY:Final Examinations
CATEGORIES:MBA and MS Fin,Second Trimester AY 2021-2022,Class-Related Events
END:VEVENT
BEGIN:VEVENT
DTSTAMP:20260424T191625Z
UID:20260424T191625Z69eb510965b27@crs.upd.edu.ph
DTSTART;VALUE=DATE-TIME:20220611T000000Z
DTEND;VALUE=DATE-TIME:20230604T235959Z
SUMMARY:Period for Grade Completion
CATEGORIES:MBA and MS Fin,Second Trimester AY 2021-2022,Time Period
END:VEVENT
BEGIN:VEVENT
DTSTAMP:20260424T191625Z
UID:20260424T191625Z69eb510965b29@crs.upd.edu.ph
DTSTART;VALUE=DATE:20220622
DTEND;VALUE=DATE:19700101
SUMMARY:Deadline of Grade Submission for All Students
CATEGORIES:MBA and MS Fin,Second Trimester AY 2021-2022,Deadline
END:VEVENT
BEGIN:VEVENT
DTSTAMP:20260424T191625Z
UID:20260424T191625Z69eb510965b2a@crs.upd.edu.ph
DTSTART;VALUE=DATE-TIME:20220628T000000Z
DTEND;VALUE=DATE-TIME:19700101T080000Z
SUMMARY:SET Results Availability
CATEGORIES:MBA and MS Fin,Second Trimester AY 2021-2022,General
END:VEVENT
BEGIN:VEVENT
DTSTAMP:20260424T191625Z
UID:20260424T191625Z69eb510965b2c@crs.upd.edu.ph
DTSTART;VALUE=DATE:20220703
DTEND;VALUE=DATE:19700101
SUMMARY:Last Day of Enrollment for Residency Purposes
CATEGORIES:MBA and MS Fin,Second Trimester AY 2021-2022,Registration Events
END:VEVENT
END:VCALENDAR
