BEGIN:VCALENDAR
VERSION:2.0
PRODID:-//UPD CRS//NONSGML Academic Calendar//EN
BEGIN:VEVENT
DTSTAMP:20260421T014934Z
UID:20260421T014934Z69e6672e630a4@crs.upd.edu.ph
DTSTART;VALUE=DATE-TIME:20230605T000000Z
DTEND;VALUE=DATE-TIME:20230607T235959Z
SUMMARY:General Registration
CATEGORIES:MBA and MS Fin,Third Trimester AY 2022-2023,Registration Events
END:VEVENT
BEGIN:VEVENT
DTSTAMP:20260421T014934Z
UID:20260421T014934Z69e6672e630a7@crs.upd.edu.ph
DTSTART;VALUE=DATE:20230605
DTEND;VALUE=DATE:20230926
SUMMARY:Academic Term Duration
CATEGORIES:MBA and MS Fin,Third Trimester AY 2022-2023,Time Period
END:VEVENT
BEGIN:VEVENT
DTSTAMP:20260421T014934Z
UID:20260421T014934Z69e6672e630a9@crs.upd.edu.ph
DTSTART;VALUE=DATE-TIME:20230605T000000Z
DTEND;VALUE=DATE-TIME:20230926T235959Z
SUMMARY:Term Duration for Grade Completion
CATEGORIES:MBA and MS Fin,Third Trimester AY 2022-2023,Time Period
END:VEVENT
BEGIN:VEVENT
DTSTAMP:20260421T014934Z
UID:20260421T014934Z69e6672e630ab@crs.upd.edu.ph
DTSTART;VALUE=DATE-TIME:20230606T040000Z
DTEND;VALUE=DATE-TIME:19700101T080000Z
SUMMARY:Auto-Relinquish Date
CATEGORIES:MBA and MS Fin,Third Trimester AY 2022-2023,Class-Related Events
END:VEVENT
BEGIN:VEVENT
DTSTAMP:20260421T014934Z
UID:20260421T014934Z69e6672e630ac@crs.upd.edu.ph
DTSTART;VALUE=DATE:20230608
DTEND;VALUE=DATE:20230908
SUMMARY:Official Class Period
CATEGORIES:MBA and MS Fin,Third Trimester AY 2022-2023,Class-Related Events
END:VEVENT
BEGIN:VEVENT
DTSTAMP:20260421T014934Z
UID:20260421T014934Z69e6672e630ae@crs.upd.edu.ph
DTSTART;VALUE=DATE:20230615
DTEND;VALUE=DATE:19700101
SUMMARY:Deadline for Late Registration
CATEGORIES:MBA and MS Fin,Third Trimester AY 2022-2023,Registration Events
END:VEVENT
BEGIN:VEVENT
DTSTAMP:20260421T014934Z
UID:20260421T014934Z69e6672e630b0@crs.upd.edu.ph
DTSTART;VALUE=DATE-TIME:20230623T235959Z
DTEND;VALUE=DATE-TIME:19700101T080000Z
SUMMARY:Last Day of Payment for Change of Matriculation
CATEGORIES:MBA and MS Fin,Third Trimester AY 2022-2023,Deadline
END:VEVENT
BEGIN:VEVENT
DTSTAMP:20260421T014934Z
UID:20260421T014934Z69e6672e630b1@crs.upd.edu.ph
DTSTART;VALUE=DATE-TIME:20230623T235959Z
DTEND;VALUE=DATE-TIME:19700101T080000Z
SUMMARY:Deadline of Application for Graduation for Graduat
 ing Students
CATEGORIES:MBA and MS Fin,Third Trimester AY 2022-2023,Deadline
END:VEVENT
BEGIN:VEVENT
DTSTAMP:20260421T014934Z
UID:20260421T014934Z69e6672e630b3@crs.upd.edu.ph
DTSTART;VALUE=DATE-TIME:20230623T235959Z
DTEND;VALUE=DATE-TIME:19700101T080000Z
SUMMARY:Last Day of Payment for Registration
CATEGORIES:MBA and MS Fin,Third Trimester AY 2022-2023,Deadline
END:VEVENT
BEGIN:VEVENT
DTSTAMP:20260421T014934Z
UID:20260421T014934Z69e6672e630b5@crs.upd.edu.ph
DTSTART;VALUE=DATE:20230722
DTEND;VALUE=DATE:19700101
SUMMARY:Mid-Trimester
CATEGORIES:MBA and MS Fin,Third Trimester AY 2022-2023,Class-Related Events
END:VEVENT
BEGIN:VEVENT
DTSTAMP:20260421T014934Z
UID:20260421T014934Z69e6672e630b6@crs.upd.edu.ph
DTSTART;VALUE=DATE-TIME:20230822T235959Z
DTEND;VALUE=DATE-TIME:19700101T080000Z
SUMMARY:Deadline for Dropping of Subjects
CATEGORIES:MBA and MS Fin,Third Trimester AY 2022-2023,Deadline
END:VEVENT
BEGIN:VEVENT
DTSTAMP:20260421T014934Z
UID:20260421T014934Z69e6672e630b8@crs.upd.edu.ph
DTSTART;VALUE=DATE-TIME:20230905T235959Z
DTEND;VALUE=DATE-TIME:19700101T080000Z
SUMMARY:Deadline for Filing Leave of Absence (LOA)
CATEGORIES:MBA and MS Fin,Third Trimester AY 2022-2023,Deadline
END:VEVENT
BEGIN:VEVENT
DTSTAMP:20260421T014934Z
UID:20260421T014934Z69e6672e630ba@crs.upd.edu.ph
DTSTART;VALUE=DATE-TIME:20230909T000000Z
DTEND;VALUE=DATE-TIME:20240919T235959Z
SUMMARY:Period for Grade Completion
DESCRIPTION:3rd Trim 2022-2023
CATEGORIES:MBA and MS Fin,Third Trimester AY 2022-2023,Time Period
END:VEVENT
BEGIN:VEVENT
DTSTAMP:20260421T014934Z
UID:20260421T014934Z69e6672e630bb@crs.upd.edu.ph
DTSTART;VALUE=DATE:20230911
DTEND;VALUE=DATE:20230913
SUMMARY:Final Examinations
CATEGORIES:MBA and MS Fin,Third Trimester AY 2022-2023,Class-Related Events
END:VEVENT
BEGIN:VEVENT
DTSTAMP:20260421T014934Z
UID:20260421T014934Z69e6672e630bd@crs.upd.edu.ph
DTSTART;VALUE=DATE:20230920
DTEND;VALUE=DATE:19700101
SUMMARY:Deadline of Grade Submission for All Students
CATEGORIES:MBA and MS Fin,Third Trimester AY 2022-2023,Deadline
END:VEVENT
BEGIN:VEVENT
DTSTAMP:20260421T014934Z
UID:20260421T014934Z69e6672e630be@crs.upd.edu.ph
DTSTART;VALUE=DATE:20230926
DTEND;VALUE=DATE:19700101
SUMMARY:Last Day of Enrollment for Residency Purposes
DESCRIPTION:3rd Trim 2022-2023
CATEGORIES:MBA and MS Fin,Third Trimester AY 2022-2023,Registration Events
END:VEVENT
BEGIN:VEVENT
DTSTAMP:20260421T014934Z
UID:20260421T014934Z69e6672e630c0@crs.upd.edu.ph
DTSTART;VALUE=DATE-TIME:20230927T000000Z
DTEND;VALUE=DATE-TIME:19700101T080000Z
SUMMARY:SET Results Availability
CATEGORIES:MBA and MS Fin,Third Trimester AY 2022-2023,General
END:VEVENT
END:VCALENDAR
