BEGIN:VCALENDAR
VERSION:2.0
PRODID:-//UPD CRS//NONSGML Academic Calendar//EN
BEGIN:VEVENT
DTSTAMP:20260423T080552Z
UID:20260423T080552Z69e9626017099@crs.upd.edu.ph
DTSTART;VALUE=DATE-TIME:20230927T000000Z
DTEND;VALUE=DATE-TIME:20230929T235959Z
SUMMARY:General Registration
DESCRIPTION:First Trimester AY 2023-2024
CATEGORIES:MBA and MS Fin,First Trimester AY 2023-2024,Registration Events
END:VEVENT
BEGIN:VEVENT
DTSTAMP:20260423T080552Z
UID:20260423T080552Z69e962601709c@crs.upd.edu.ph
DTSTART;VALUE=DATE:20230927
DTEND;VALUE=DATE:20240128
SUMMARY:Academic Term Duration
DESCRIPTION:First Trimester AY 2023-2024
CATEGORIES:MBA and MS Fin,First Trimester AY 2023-2024,Time Period
END:VEVENT
BEGIN:VEVENT
DTSTAMP:20260423T080552Z
UID:20260423T080552Z69e962601709e@crs.upd.edu.ph
DTSTART;VALUE=DATE-TIME:20230927T000000Z
DTEND;VALUE=DATE-TIME:20240128T235959Z
SUMMARY:Term Duration for Grade Completion
DESCRIPTION:First Trimester AY 2023-2024
CATEGORIES:MBA and MS Fin,First Trimester AY 2023-2024,Time Period
END:VEVENT
BEGIN:VEVENT
DTSTAMP:20260423T080552Z
UID:20260423T080552Z69e962601709f@crs.upd.edu.ph
DTSTART;VALUE=DATE-TIME:20231001T000000Z
DTEND;VALUE=DATE-TIME:19700101T080000Z
SUMMARY:Deadline for Students to Withdraw Enlistments
DESCRIPTION:First Trimester AY 2023-2024
CATEGORIES:MBA and MS Fin,First Trimester AY 2023-2024,Deadline
END:VEVENT
BEGIN:VEVENT
DTSTAMP:20260423T080552Z
UID:20260423T080552Z69e96260170a1@crs.upd.edu.ph
DTSTART;VALUE=DATE:20231002
DTEND;VALUE=DATE:20240112
SUMMARY:Official Class Period
DESCRIPTION:First Trimester AY 2023-2024
CATEGORIES:MBA and MS Fin,First Trimester AY 2023-2024,Class-Related Events
END:VEVENT
BEGIN:VEVENT
DTSTAMP:20260423T080552Z
UID:20260423T080552Z69e96260170a2@crs.upd.edu.ph
DTSTART;VALUE=DATE-TIME:20231009T000000Z
DTEND;VALUE=DATE-TIME:19700101T080000Z
SUMMARY:Last Day of Payment for Change of Matriculation
DESCRIPTION:First Trimester AY 2023-2024
CATEGORIES:MBA and MS Fin,First Trimester AY 2023-2024,Deadline
END:VEVENT
BEGIN:VEVENT
DTSTAMP:20260423T080552Z
UID:20260423T080552Z69e96260170a4@crs.upd.edu.ph
DTSTART;VALUE=DATE-TIME:20231009T000000Z
DTEND;VALUE=DATE-TIME:19700101T080000Z
SUMMARY:Last Day of Payment for Registration
DESCRIPTION:First Trimester AY 2023-2024
CATEGORIES:MBA and MS Fin,First Trimester AY 2023-2024,Deadline
END:VEVENT
BEGIN:VEVENT
DTSTAMP:20260423T080552Z
UID:20260423T080552Z69e96260170a6@crs.upd.edu.ph
DTSTART;VALUE=DATE:20231115
DTEND;VALUE=DATE:19700101
SUMMARY:Mid-Trimester
DESCRIPTION:First Trimester AY 2023-2024
CATEGORIES:MBA and MS Fin,First Trimester AY 2023-2024,Class-Related Events
END:VEVENT
BEGIN:VEVENT
DTSTAMP:20260423T080552Z
UID:20260423T080552Z69e96260170a7@crs.upd.edu.ph
DTSTART;VALUE=DATE-TIME:20231219T000000Z
DTEND;VALUE=DATE-TIME:19700101T080000Z
SUMMARY:Deadline for Dropping of Subjects
DESCRIPTION:First Trimester AY 2023-2024
CATEGORIES:MBA and MS Fin,First Trimester AY 2023-2024,Deadline
END:VEVENT
BEGIN:VEVENT
DTSTAMP:20260423T080552Z
UID:20260423T080552Z69e96260170a9@crs.upd.edu.ph
DTSTART;VALUE=DATE-TIME:20240103T000000Z
DTEND;VALUE=DATE-TIME:19700101T080000Z
SUMMARY:Deadline for Filing Leave of Absence (LOA)
DESCRIPTION:First Trimester AY 2023-2024
CATEGORIES:MBA and MS Fin,First Trimester AY 2023-2024,Deadline
END:VEVENT
BEGIN:VEVENT
DTSTAMP:20260423T080552Z
UID:20260423T080552Z69e96260170ab@crs.upd.edu.ph
DTSTART;VALUE=DATE-TIME:20240113T000000Z
DTEND;VALUE=DATE-TIME:20250109T235959Z
SUMMARY:Period for Grade Completion
DESCRIPTION:First Trimester AY 2023-2024
CATEGORIES:MBA and MS Fin,First Trimester AY 2023-2024,Time Period
END:VEVENT
BEGIN:VEVENT
DTSTAMP:20260423T080552Z
UID:20260423T080552Z69e96260170ac@crs.upd.edu.ph
DTSTART;VALUE=DATE:20240113
DTEND;VALUE=DATE:20240118
SUMMARY:Final Examinations
DESCRIPTION:First Trimester AY 2023-2024
CATEGORIES:MBA and MS Fin,First Trimester AY 2023-2024,Class-Related Events
END:VEVENT
BEGIN:VEVENT
DTSTAMP:20260423T080552Z
UID:20260423T080552Z69e96260170ae@crs.upd.edu.ph
DTSTART;VALUE=DATE:20240125
DTEND;VALUE=DATE:19700101
SUMMARY:Deadline of Grade Submission for All Students
DESCRIPTION:First Trimester AY 2023-2024
CATEGORIES:MBA and MS Fin,First Trimester AY 2023-2024,Deadline
END:VEVENT
BEGIN:VEVENT
DTSTAMP:20260423T080552Z
UID:20260423T080552Z69e96260170af@crs.upd.edu.ph
DTSTART;VALUE=DATE:20240128
DTEND;VALUE=DATE:19700101
SUMMARY:Last Day of Enrollment for Residency Purposes
DESCRIPTION:First Trimester AY 2023-2024
CATEGORIES:MBA and MS Fin,First Trimester AY 2023-2024,Registration Events
END:VEVENT
BEGIN:VEVENT
DTSTAMP:20260423T080552Z
UID:20260423T080552Z69e96260170b1@crs.upd.edu.ph
DTSTART;VALUE=DATE-TIME:20240201T000000Z
DTEND;VALUE=DATE-TIME:19700101T080000Z
SUMMARY:SET Results Availability
DESCRIPTION:First Trimester AY 2023-2024
CATEGORIES:MBA and MS Fin,First Trimester AY 2023-2024,General
END:VEVENT
END:VCALENDAR
