BEGIN:VCALENDAR
VERSION:2.0
PRODID:-//UPD CRS//NONSGML Academic Calendar//EN
BEGIN:VEVENT
DTSTAMP:20260421T014934Z
UID:20260421T014934Z69e6672e61d1b@crs.upd.edu.ph
DTSTART;VALUE=DATE:20200113
DTEND;VALUE=DATE:20200510
SUMMARY:Academic Term Duration
CATEGORIES:MSI - PM,Second Trimester AY 2019-2020,Time Period
END:VEVENT
BEGIN:VEVENT
DTSTAMP:20260421T014934Z
UID:20260421T014934Z69e6672e61d1e@crs.upd.edu.ph
DTSTART;VALUE=DATE-TIME:20200113T000000Z
DTEND;VALUE=DATE-TIME:20200117T235959Z
SUMMARY:General Registration
CATEGORIES:MSI - PM,Second Trimester AY 2019-2020,Registration Events
END:VEVENT
BEGIN:VEVENT
DTSTAMP:20260421T014934Z
UID:20260421T014934Z69e6672e61d20@crs.upd.edu.ph
DTSTART;VALUE=DATE-TIME:20200122T000000Z
DTEND;VALUE=DATE-TIME:19700101T080000Z
SUMMARY:Last Day of Payment for Registration
DESCRIPTION:Second Trimester 2019-2020
CATEGORIES:MSI - PM,Second Trimester AY 2019-2020,Deadline
END:VEVENT
BEGIN:VEVENT
DTSTAMP:20260421T014934Z
UID:20260421T014934Z69e6672e61d22@crs.upd.edu.ph
DTSTART;VALUE=DATE-TIME:20200122T000000Z
DTEND;VALUE=DATE-TIME:19700101T080000Z
SUMMARY:Last Day of Payment for Change of Matriculation
DESCRIPTION:Second Trimester 2019-2020
CATEGORIES:MSI - PM,Second Trimester AY 2019-2020,Deadline
END:VEVENT
BEGIN:VEVENT
DTSTAMP:20260421T014934Z
UID:20260421T014934Z69e6672e61d24@crs.upd.edu.ph
DTSTART;VALUE=DATE:20200127
DTEND;VALUE=DATE:20200417
SUMMARY:Official Class Period
CATEGORIES:MSI - PM,Second Trimester AY 2019-2020,Class-Related Events
END:VEVENT
BEGIN:VEVENT
DTSTAMP:20260421T014934Z
UID:20260421T014934Z69e6672e61d27@crs.upd.edu.ph
DTSTART;VALUE=DATE-TIME:20200228T235959Z
DTEND;VALUE=DATE-TIME:19700101T080000Z
SUMMARY:Deadline for Dropping of Subjects
CATEGORIES:MSI - PM,Second Trimester AY 2019-2020,Deadline
END:VEVENT
BEGIN:VEVENT
DTSTAMP:20260421T014934Z
UID:20260421T014934Z69e6672e61d29@crs.upd.edu.ph
DTSTART;VALUE=DATE-TIME:20200313T235959Z
DTEND;VALUE=DATE-TIME:19700101T080000Z
SUMMARY:Deadline for Filing Leave of Absence (LOA)
CATEGORIES:MSI - PM,Second Trimester AY 2019-2020,Deadline
END:VEVENT
BEGIN:VEVENT
DTSTAMP:20260421T014934Z
UID:20260421T014934Z69e6672e61d2b@crs.upd.edu.ph
DTSTART;VALUE=DATE:20200420
DTEND;VALUE=DATE:20200421
SUMMARY:Final Examinations
CATEGORIES:MSI - PM,Second Trimester AY 2019-2020,Class-Related Events
END:VEVENT
BEGIN:VEVENT
DTSTAMP:20260421T014934Z
UID:20260421T014934Z69e6672e61d2d@crs.upd.edu.ph
DTSTART;VALUE=DATE:20200430
DTEND;VALUE=DATE:19700101
SUMMARY:Deadline of Grade Submission for All Students
CATEGORIES:MSI - PM,Second Trimester AY 2019-2020,Deadline
END:VEVENT
BEGIN:VEVENT
DTSTAMP:20260421T014934Z
UID:20260421T014934Z69e6672e61d2f@crs.upd.edu.ph
DTSTART;VALUE=DATE-TIME:20200505T000000Z
DTEND;VALUE=DATE-TIME:19700101T080000Z
SUMMARY:SET Results Availability
CATEGORIES:MSI - PM,Second Trimester AY 2019-2020,General
END:VEVENT
END:VCALENDAR
