BEGIN:VCALENDAR
VERSION:2.0
PRODID:-//UPD CRS//NONSGML Academic Calendar//EN
BEGIN:VEVENT
DTSTAMP:20260421T074808Z
UID:20260421T074808Z69e6bb3850ee1@crs.upd.edu.ph
DTSTART;VALUE=DATE:20240205
DTEND;VALUE=DATE:20240602
SUMMARY:Academic Term Duration
DESCRIPTION:2nd Trimester PMTMEM 2023-2024
CATEGORIES:MSI - PM,Second Trimester AY 2023-2024,Time Period
END:VEVENT
BEGIN:VEVENT
DTSTAMP:20260421T074808Z
UID:20260421T074808Z69e6bb3850ee5@crs.upd.edu.ph
DTSTART;VALUE=DATE-TIME:20240205T000000Z
DTEND;VALUE=DATE-TIME:20240209T235959Z
SUMMARY:General Registration
DESCRIPTION:2nd Trimester PMTMEM 2023-2024
CATEGORIES:MSI - PM,Second Trimester AY 2023-2024,Registration Events
END:VEVENT
BEGIN:VEVENT
DTSTAMP:20260421T074808Z
UID:20260421T074808Z69e6bb3850ee6@crs.upd.edu.ph
DTSTART;VALUE=DATE-TIME:20240205T000000Z
DTEND;VALUE=DATE-TIME:20240728T235959Z
SUMMARY:Term Duration for Grade Completion
DESCRIPTION:2nd Trimester PMTMEM 2023-2024
CATEGORIES:MSI - PM,Second Trimester AY 2023-2024,Time Period
END:VEVENT
BEGIN:VEVENT
DTSTAMP:20260421T074808Z
UID:20260421T074808Z69e6bb3850ee8@crs.upd.edu.ph
DTSTART;VALUE=DATE:20240212
DTEND;VALUE=DATE:20240513
SUMMARY:Official Class Period
DESCRIPTION:2nd Trimester PMTMEM 2023-2024
CATEGORIES:MSI - PM,Second Trimester AY 2023-2024,Class-Related Events
END:VEVENT
BEGIN:VEVENT
DTSTAMP:20260421T074808Z
UID:20260421T074808Z69e6bb3850eea@crs.upd.edu.ph
DTSTART;VALUE=DATE-TIME:20240212T235959Z
DTEND;VALUE=DATE-TIME:19700101T080000Z
SUMMARY:Last Day of Payment for Registration
DESCRIPTION:2nd Trimester PMTMEM 2023-2024
CATEGORIES:MSI - PM,Second Trimester AY 2023-2024,Deadline
END:VEVENT
BEGIN:VEVENT
DTSTAMP:20260421T074808Z
UID:20260421T074808Z69e6bb3850eeb@crs.upd.edu.ph
DTSTART;VALUE=DATE-TIME:20240212T235959Z
DTEND;VALUE=DATE-TIME:19700101T080000Z
SUMMARY:Last Day of Payment for Change of Matriculation
DESCRIPTION:2nd Trimester PMTMEM 2023-2024
CATEGORIES:MSI - PM,Second Trimester AY 2023-2024,Deadline
END:VEVENT
BEGIN:VEVENT
DTSTAMP:20260421T074808Z
UID:20260421T074808Z69e6bb3850eed@crs.upd.edu.ph
DTSTART;VALUE=DATE-TIME:20240226T235959Z
DTEND;VALUE=DATE-TIME:19700101T080000Z
SUMMARY:Deadline of Application for Graduation for Graduat
 ing Students
DESCRIPTION:2nd Trimester PMTMEM 2022-2023
CATEGORIES:MSI - PM,Second Trimester AY 2023-2024,Deadline
END:VEVENT
BEGIN:VEVENT
DTSTAMP:20260421T074808Z
UID:20260421T074808Z69e6bb3850eef@crs.upd.edu.ph
DTSTART;VALUE=DATE-TIME:20240415T235959Z
DTEND;VALUE=DATE-TIME:19700101T080000Z
SUMMARY:Deadline for Dropping of Subjects
DESCRIPTION:2nd Trimester PMTMEM 2023-2024
CATEGORIES:MSI - PM,Second Trimester AY 2023-2024,Deadline
END:VEVENT
BEGIN:VEVENT
DTSTAMP:20260421T074808Z
UID:20260421T074808Z69e6bb3850ef0@crs.upd.edu.ph
DTSTART;VALUE=DATE-TIME:20240502T235959Z
DTEND;VALUE=DATE-TIME:19700101T080000Z
SUMMARY:Deadline for Filing Leave of Absence (LOA)
DESCRIPTION:2nd Trimester PMTMEM 2023-2024
CATEGORIES:MSI - PM,Second Trimester AY 2023-2024,Deadline
END:VEVENT
BEGIN:VEVENT
DTSTAMP:20260421T074808Z
UID:20260421T074808Z69e6bb3850ef2@crs.upd.edu.ph
DTSTART;VALUE=DATE:20240514
DTEND;VALUE=DATE:20240520
SUMMARY:Final Examinations
DESCRIPTION:2nd Trimester PMTMEM 2023-2024
CATEGORIES:MSI - PM,Second Trimester AY 2023-2024,Class-Related Events
END:VEVENT
BEGIN:VEVENT
DTSTAMP:20260421T074808Z
UID:20260421T074808Z69e6bb3850ef4@crs.upd.edu.ph
DTSTART;VALUE=DATE-TIME:20240514T000000Z
DTEND;VALUE=DATE-TIME:20250504T235959Z
SUMMARY:Period for Grade Completion
DESCRIPTION:2nd Trimester PMTMEM 2023-2024
CATEGORIES:MSI - PM,Second Trimester AY 2023-2024,Time Period
END:VEVENT
BEGIN:VEVENT
DTSTAMP:20260421T074808Z
UID:20260421T074808Z69e6bb3850ef5@crs.upd.edu.ph
DTSTART;VALUE=DATE:20240527
DTEND;VALUE=DATE:19700101
SUMMARY:Deadline of Grade Submission for All Students
DESCRIPTION:2nd Trimester PMTMEM 2023-2024
CATEGORIES:MSI - PM,Second Trimester AY 2023-2024,Deadline
END:VEVENT
BEGIN:VEVENT
DTSTAMP:20260421T074808Z
UID:20260421T074808Z69e6bb3850ef7@crs.upd.edu.ph
DTSTART;VALUE=DATE:20240602
DTEND;VALUE=DATE:19700101
SUMMARY:Last Day of Enrollment for Residency Purposes
DESCRIPTION:2nd Trimester PMTMEM 2023-2024
CATEGORIES:MSI - PM,Second Trimester AY 2023-2024,Registration Events
END:VEVENT
BEGIN:VEVENT
DTSTAMP:20260421T074808Z
UID:20260421T074808Z69e6bb3850ef9@crs.upd.edu.ph
DTSTART;VALUE=DATE-TIME:20240603T000000Z
DTEND;VALUE=DATE-TIME:19700101T080000Z
SUMMARY:SET Results Availability
DESCRIPTION:2nd Trimester PMTMEM 2023-2024
CATEGORIES:MSI - PM,Second Trimester AY 2023-2024,General
END:VEVENT
END:VCALENDAR
