BEGIN:VCALENDAR
VERSION:2.0
PRODID:-//UPD CRS//NONSGML Academic Calendar//EN
BEGIN:VEVENT
DTSTAMP:20260424T001242Z
UID:20260424T001242Z69ea44fa90040@crs.upd.edu.ph
DTSTART;VALUE=DATE-TIME:20240603T000000Z
DTEND;VALUE=DATE-TIME:20240922T235959Z
SUMMARY:Term Duration for Grade Completion
DESCRIPTION:3rd Trim 2023-2024
CATEGORIES:MSI - PM,Third Trimester AY 2023-2024,Time Period
END:VEVENT
BEGIN:VEVENT
DTSTAMP:20260424T001242Z
UID:20260424T001242Z69ea44fa90044@crs.upd.edu.ph
DTSTART;VALUE=DATE-TIME:20240603T000000Z
DTEND;VALUE=DATE-TIME:20240607T235959Z
SUMMARY:General Registration
DESCRIPTION:3rd Trim 2023-2024
CATEGORIES:MSI - PM,Third Trimester AY 2023-2024,Registration Events
END:VEVENT
BEGIN:VEVENT
DTSTAMP:20260424T001242Z
UID:20260424T001242Z69ea44fa90046@crs.upd.edu.ph
DTSTART;VALUE=DATE:20240603
DTEND;VALUE=DATE:20240922
SUMMARY:Academic Term Duration
DESCRIPTION:3rd Trim 2023-2024
CATEGORIES:MSI - PM,Third Trimester AY 2023-2024,Time Period
END:VEVENT
BEGIN:VEVENT
DTSTAMP:20260424T001242Z
UID:20260424T001242Z69ea44fa90048@crs.upd.edu.ph
DTSTART;VALUE=DATE:20240610
DTEND;VALUE=DATE:20240906
SUMMARY:Official Class Period
DESCRIPTION:3rd Trim 2023-2024
CATEGORIES:MSI - PM,Third Trimester AY 2023-2024,Class-Related Events
END:VEVENT
BEGIN:VEVENT
DTSTAMP:20260424T001242Z
UID:20260424T001242Z69ea44fa9004a@crs.upd.edu.ph
DTSTART;VALUE=DATE-TIME:20240610T235959Z
DTEND;VALUE=DATE-TIME:19700101T080000Z
SUMMARY:Last Day of Payment for Registration
DESCRIPTION:3rd Trim 2023-2024
CATEGORIES:MSI - PM,Third Trimester AY 2023-2024,Deadline
END:VEVENT
BEGIN:VEVENT
DTSTAMP:20260424T001242Z
UID:20260424T001242Z69ea44fa9004c@crs.upd.edu.ph
DTSTART;VALUE=DATE-TIME:20240610T235959Z
DTEND;VALUE=DATE-TIME:19700101T080000Z
SUMMARY:Last Day of Payment for Change of Matriculation
DESCRIPTION:3rd Trim 2023-2024
CATEGORIES:MSI - PM,Third Trimester AY 2023-2024,Deadline
END:VEVENT
BEGIN:VEVENT
DTSTAMP:20260424T001242Z
UID:20260424T001242Z69ea44fa9004e@crs.upd.edu.ph
DTSTART;VALUE=DATE-TIME:20240624T235959Z
DTEND;VALUE=DATE-TIME:19700101T080000Z
SUMMARY:Deadline of Application for Graduation for Graduat
 ing Students
DESCRIPTION:3rd Trim 2022-2023
CATEGORIES:MSI - PM,Third Trimester AY 2023-2024,Deadline
END:VEVENT
BEGIN:VEVENT
DTSTAMP:20260424T001242Z
UID:20260424T001242Z69ea44fa90050@crs.upd.edu.ph
DTSTART;VALUE=DATE-TIME:20240812T235959Z
DTEND;VALUE=DATE-TIME:19700101T080000Z
SUMMARY:Deadline for Dropping of Subjects
DESCRIPTION:3rd Trim 2023-2024
CATEGORIES:MSI - PM,Third Trimester AY 2023-2024,Deadline
END:VEVENT
BEGIN:VEVENT
DTSTAMP:20260424T001242Z
UID:20260424T001242Z69ea44fa90052@crs.upd.edu.ph
DTSTART;VALUE=DATE-TIME:20240823T235959Z
DTEND;VALUE=DATE-TIME:19700101T080000Z
SUMMARY:Deadline for Filing Leave of Absence (LOA)
DESCRIPTION:3rd Trim 2023-2024
CATEGORIES:MSI - PM,Third Trimester AY 2023-2024,Deadline
END:VEVENT
BEGIN:VEVENT
DTSTAMP:20260424T001242Z
UID:20260424T001242Z69ea44fa90054@crs.upd.edu.ph
DTSTART;VALUE=DATE:20240911
DTEND;VALUE=DATE:20240916
SUMMARY:Final Examinations
DESCRIPTION:3rd Trim 2023-2024
CATEGORIES:MSI - PM,Third Trimester AY 2023-2024,Class-Related Events
END:VEVENT
BEGIN:VEVENT
DTSTAMP:20260424T001242Z
UID:20260424T001242Z69ea44fa90056@crs.upd.edu.ph
DTSTART;VALUE=DATE:20240919
DTEND;VALUE=DATE:19700101
SUMMARY:Deadline of Grade Submission for All Students
DESCRIPTION:3rd Trim 2023-2024
CATEGORIES:MSI - PM,Third Trimester AY 2023-2024,Deadline
END:VEVENT
BEGIN:VEVENT
DTSTAMP:20260424T001242Z
UID:20260424T001242Z69ea44fa90058@crs.upd.edu.ph
DTSTART;VALUE=DATE:20240922
DTEND;VALUE=DATE:19700101
SUMMARY:Last Day of Enrollment for Residency Purposes
DESCRIPTION:3rd Trim 2023-2024
CATEGORIES:MSI - PM,Third Trimester AY 2023-2024,Registration Events
END:VEVENT
BEGIN:VEVENT
DTSTAMP:20260424T001242Z
UID:20260424T001242Z69ea44fa9005a@crs.upd.edu.ph
DTSTART;VALUE=DATE-TIME:20240926T000000Z
DTEND;VALUE=DATE-TIME:19700101T080000Z
SUMMARY:SET Results Availability
DESCRIPTION:3rd Trim 2023-2024
CATEGORIES:MSI - PM,Third Trimester AY 2023-2024,General
END:VEVENT
END:VCALENDAR
