BEGIN:VCALENDAR
VERSION:2.0
PRODID:-//UPD CRS//NONSGML Academic Calendar//EN
BEGIN:VEVENT
DTSTAMP:20260425T183303Z
UID:20260425T183303Z69ec985fd8b54@crs.upd.edu.ph
DTSTART;VALUE=DATE-TIME:20210211T235959Z
DTEND;VALUE=DATE-TIME:19700101T080000Z
SUMMARY:Deadline of Application and Extension of MRR
CATEGORIES:UPSA,Third Trimester AY 2020-2021,Deadline
END:VEVENT
BEGIN:VEVENT
DTSTAMP:20260425T183303Z
UID:20260425T183303Z69ec985fd8b57@crs.upd.edu.ph
DTSTART;VALUE=DATE:20210308
DTEND;VALUE=DATE:20210704
SUMMARY:Academic Term Duration
CATEGORIES:UPSA,Third Trimester AY 2020-2021,Time Period
END:VEVENT
BEGIN:VEVENT
DTSTAMP:20260425T183303Z
UID:20260425T183303Z69ec985fd8b59@crs.upd.edu.ph
DTSTART;VALUE=DATE-TIME:20210308T000000Z
DTEND;VALUE=DATE-TIME:20210704T235959Z
SUMMARY:Term Duration for Grade Completion
CATEGORIES:UPSA,Third Trimester AY 2020-2021,Time Period
END:VEVENT
BEGIN:VEVENT
DTSTAMP:20260425T183303Z
UID:20260425T183303Z69ec985fd8b5b@crs.upd.edu.ph
DTSTART;VALUE=DATE-TIME:20210308T000000Z
DTEND;VALUE=DATE-TIME:20210310T235959Z
SUMMARY:General Registration
CATEGORIES:UPSA,Third Trimester AY 2020-2021,Registration Events
END:VEVENT
BEGIN:VEVENT
DTSTAMP:20260425T183303Z
UID:20260425T183303Z69ec985fd8b5e@crs.upd.edu.ph
DTSTART;VALUE=DATE-TIME:20210308T235959Z
DTEND;VALUE=DATE-TIME:20210331T235959Z
SUMMARY:Last Day of Payment for Registration
CATEGORIES:UPSA,Third Trimester AY 2020-2021,Deadline
END:VEVENT
BEGIN:VEVENT
DTSTAMP:20260425T183303Z
UID:20260425T183303Z69ec985fd8b61@crs.upd.edu.ph
DTSTART;VALUE=DATE-TIME:20210308T235959Z
DTEND;VALUE=DATE-TIME:20210331T235959Z
SUMMARY:Last Day of Payment for Change of Matriculation
CATEGORIES:UPSA,Third Trimester AY 2020-2021,Deadline
END:VEVENT
BEGIN:VEVENT
DTSTAMP:20260425T183303Z
UID:20260425T183303Z69ec985fd8b65@crs.upd.edu.ph
DTSTART;VALUE=DATE:20210311
DTEND;VALUE=DATE:20210610
SUMMARY:Official Class Period
CATEGORIES:UPSA,Third Trimester AY 2020-2021,Class-Related Events
END:VEVENT
BEGIN:VEVENT
DTSTAMP:20260425T183303Z
UID:20260425T183303Z69ec985fd8b69@crs.upd.edu.ph
DTSTART;VALUE=DATE-TIME:20210325T235959Z
DTEND;VALUE=DATE-TIME:19700101T080000Z
SUMMARY:Deadline of Application for Graduation for Graduat
 ing Students
CATEGORIES:UPSA,Third Trimester AY 2020-2021,Deadline
END:VEVENT
BEGIN:VEVENT
DTSTAMP:20260425T183303Z
UID:20260425T183303Z69ec985fd8b6c@crs.upd.edu.ph
DTSTART;VALUE=DATE:20210429
DTEND;VALUE=DATE:19700101
SUMMARY:Mid-Trimester
CATEGORIES:UPSA,Third Trimester AY 2020-2021,Class-Related Events
END:VEVENT
BEGIN:VEVENT
DTSTAMP:20260425T183303Z
UID:20260425T183303Z69ec985fd8b70@crs.upd.edu.ph
DTSTART;VALUE=DATE-TIME:20210506T235959Z
DTEND;VALUE=DATE-TIME:19700101T080000Z
SUMMARY:Deadline for Dropping of Subjects
CATEGORIES:UPSA,Third Trimester AY 2020-2021,Deadline
END:VEVENT
BEGIN:VEVENT
DTSTAMP:20260425T183303Z
UID:20260425T183303Z69ec985fd8b74@crs.upd.edu.ph
DTSTART;VALUE=DATE-TIME:20210514T235959Z
DTEND;VALUE=DATE-TIME:19700101T080000Z
SUMMARY:Deadline for Filing Leave of Absence (LOA)
CATEGORIES:UPSA,Third Trimester AY 2020-2021,Deadline
END:VEVENT
BEGIN:VEVENT
DTSTAMP:20260425T183303Z
UID:20260425T183303Z69ec985fd8b77@crs.upd.edu.ph
DTSTART;VALUE=DATE:20210611
DTEND;VALUE=DATE:20210619
SUMMARY:Final Examinations
CATEGORIES:UPSA,Third Trimester AY 2020-2021,Class-Related Events
END:VEVENT
BEGIN:VEVENT
DTSTAMP:20260425T183303Z
UID:20260425T183303Z69ec985fd8b7b@crs.upd.edu.ph
DTSTART;VALUE=DATE-TIME:20210611T000000Z
DTEND;VALUE=DATE-TIME:20220703T235959Z
SUMMARY:Period for Grade Completion
CATEGORIES:UPSA,Third Trimester AY 2020-2021,Time Period
END:VEVENT
BEGIN:VEVENT
DTSTAMP:20260425T183303Z
UID:20260425T183303Z69ec985fd8b7f@crs.upd.edu.ph
DTSTART;VALUE=DATE:20210630
DTEND;VALUE=DATE:19700101
SUMMARY:Deadline of Grade Submission for All Students
CATEGORIES:UPSA,Third Trimester AY 2020-2021,Deadline
END:VEVENT
BEGIN:VEVENT
DTSTAMP:20260425T183303Z
UID:20260425T183303Z69ec985fd8b82@crs.upd.edu.ph
DTSTART;VALUE=DATE:20210704
DTEND;VALUE=DATE:19700101
SUMMARY:Last Day of Enrollment for Residency Purposes
CATEGORIES:UPSA,Third Trimester AY 2020-2021,Registration Events
END:VEVENT
BEGIN:VEVENT
DTSTAMP:20260425T183303Z
UID:20260425T183303Z69ec985fd8b86@crs.upd.edu.ph
DTSTART;VALUE=DATE-TIME:20210707T000000Z
DTEND;VALUE=DATE-TIME:19700101T080000Z
SUMMARY:SET Results Availability
DESCRIPTION:Third Trimester AY 2020-2021
CATEGORIES:UPSA,Third Trimester AY 2020-2021,General
END:VEVENT
END:VCALENDAR
