BEGIN:VCALENDAR
VERSION:2.0
PRODID:-//UPD CRS//NONSGML Academic Calendar//EN
BEGIN:VEVENT
DTSTAMP:20260420T053209Z
UID:20260420T053209Z69e549d95f091@crs.upd.edu.ph
DTSTART;VALUE=DATE-TIME:20220314T000000Z
DTEND;VALUE=DATE-TIME:20220731T235959Z
SUMMARY:Term Duration for Grade Completion
CATEGORIES:UPSA,Third Trimester AY 2021-2022,Time Period
END:VEVENT
BEGIN:VEVENT
DTSTAMP:20260420T053209Z
UID:20260420T053209Z69e549d95f094@crs.upd.edu.ph
DTSTART;VALUE=DATE-TIME:20220314T000000Z
DTEND;VALUE=DATE-TIME:20220316T235959Z
SUMMARY:General Registration
CATEGORIES:UPSA,Third Trimester AY 2021-2022,Registration Events
END:VEVENT
BEGIN:VEVENT
DTSTAMP:20260420T053209Z
UID:20260420T053209Z69e549d95f095@crs.upd.edu.ph
DTSTART;VALUE=DATE:20220314
DTEND;VALUE=DATE:20220712
SUMMARY:Academic Term Duration
CATEGORIES:UPSA,Third Trimester AY 2021-2022,Time Period
END:VEVENT
BEGIN:VEVENT
DTSTAMP:20260420T053209Z
UID:20260420T053209Z69e549d95f097@crs.upd.edu.ph
DTSTART;VALUE=DATE:20220317
DTEND;VALUE=DATE:20220616
SUMMARY:Official Class Period
CATEGORIES:UPSA,Third Trimester AY 2021-2022,Class-Related Events
END:VEVENT
BEGIN:VEVENT
DTSTAMP:20260420T053209Z
UID:20260420T053209Z69e549d95f099@crs.upd.edu.ph
DTSTART;VALUE=DATE-TIME:20220331T235959Z
DTEND;VALUE=DATE-TIME:19700101T080000Z
SUMMARY:Last Day of Payment for Registration
CATEGORIES:UPSA,Third Trimester AY 2021-2022,Deadline
END:VEVENT
BEGIN:VEVENT
DTSTAMP:20260420T053209Z
UID:20260420T053209Z69e549d95f09a@crs.upd.edu.ph
DTSTART;VALUE=DATE-TIME:20220331T235959Z
DTEND;VALUE=DATE-TIME:19700101T080000Z
SUMMARY:Last Day of Payment for Change of Matriculation
CATEGORIES:UPSA,Third Trimester AY 2021-2022,Deadline
END:VEVENT
BEGIN:VEVENT
DTSTAMP:20260420T053209Z
UID:20260420T053209Z69e549d95f09c@crs.upd.edu.ph
DTSTART;VALUE=DATE-TIME:20220331T235959Z
DTEND;VALUE=DATE-TIME:19700101T080000Z
SUMMARY:Deadline of Application for Graduation for Graduat
 ing Students
CATEGORIES:UPSA,Third Trimester AY 2021-2022,Deadline
END:VEVENT
BEGIN:VEVENT
DTSTAMP:20260420T053209Z
UID:20260420T053209Z69e549d95f09e@crs.upd.edu.ph
DTSTART;VALUE=DATE:20220505
DTEND;VALUE=DATE:19700101
SUMMARY:Mid-Trimester
CATEGORIES:UPSA,Third Trimester AY 2021-2022,Class-Related Events
END:VEVENT
BEGIN:VEVENT
DTSTAMP:20260420T053209Z
UID:20260420T053209Z69e549d95f0a0@crs.upd.edu.ph
DTSTART;VALUE=DATE-TIME:20220512T235959Z
DTEND;VALUE=DATE-TIME:19700101T080000Z
SUMMARY:Deadline for Dropping of Subjects
CATEGORIES:UPSA,Third Trimester AY 2021-2022,Deadline
END:VEVENT
BEGIN:VEVENT
DTSTAMP:20260420T053209Z
UID:20260420T053209Z69e549d95f0a1@crs.upd.edu.ph
DTSTART;VALUE=DATE-TIME:20220602T235959Z
DTEND;VALUE=DATE-TIME:19700101T080000Z
SUMMARY:Deadline for Filing Leave of Absence (LOA)
CATEGORIES:UPSA,Third Trimester AY 2021-2022,Deadline
END:VEVENT
BEGIN:VEVENT
DTSTAMP:20260420T053209Z
UID:20260420T053209Z69e549d95f0a3@crs.upd.edu.ph
DTSTART;VALUE=DATE:20220617
DTEND;VALUE=DATE:20220624
SUMMARY:Final Examinations
CATEGORIES:UPSA,Third Trimester AY 2021-2022,Class-Related Events
END:VEVENT
BEGIN:VEVENT
DTSTAMP:20260420T053209Z
UID:20260420T053209Z69e549d95f0a4@crs.upd.edu.ph
DTSTART;VALUE=DATE-TIME:20220617T000000Z
DTEND;VALUE=DATE-TIME:20230704T235959Z
SUMMARY:Period for Grade Completion
CATEGORIES:UPSA,Third Trimester AY 2021-2022,Time Period
END:VEVENT
BEGIN:VEVENT
DTSTAMP:20260420T053209Z
UID:20260420T053209Z69e549d95f0a6@crs.upd.edu.ph
DTSTART;VALUE=DATE:20220701
DTEND;VALUE=DATE:19700101
SUMMARY:Deadline of Grade Submission for All Students
CATEGORIES:UPSA,Third Trimester AY 2021-2022,Deadline
END:VEVENT
BEGIN:VEVENT
DTSTAMP:20260420T053209Z
UID:20260420T053209Z69e549d95f0a8@crs.upd.edu.ph
DTSTART;VALUE=DATE-TIME:20220708T000000Z
DTEND;VALUE=DATE-TIME:19700101T080000Z
SUMMARY:SET Results Availability
CATEGORIES:UPSA,Third Trimester AY 2021-2022,General
END:VEVENT
BEGIN:VEVENT
DTSTAMP:20260420T053209Z
UID:20260420T053209Z69e549d95f0a9@crs.upd.edu.ph
DTSTART;VALUE=DATE:20220712
DTEND;VALUE=DATE:19700101
SUMMARY:Last Day of Enrollment for Residency Purposes
CATEGORIES:UPSA,Third Trimester AY 2021-2022,Registration Events
END:VEVENT
END:VCALENDAR
