BEGIN:VCALENDAR
VERSION:2.0
PRODID:-//UPD CRS//NONSGML Academic Calendar//EN
BEGIN:VEVENT
DTSTAMP:20260424T191645Z
UID:20260424T191645Z69eb511ddbb91@crs.upd.edu.ph
DTSTART;VALUE=DATE-TIME:20231016T235959Z
DTEND;VALUE=DATE-TIME:19700101T080000Z
SUMMARY:Deadline of Application and Extension of MRR
DESCRIPTION:2nd Trim 2023-2024
CATEGORIES:UPSA,Second Trimester AY 2023-2024,Deadline
END:VEVENT
BEGIN:VEVENT
DTSTAMP:20260424T191645Z
UID:20260424T191645Z69eb511ddbb94@crs.upd.edu.ph
DTSTART;VALUE=DATE-TIME:20231016T235959Z
DTEND;VALUE=DATE-TIME:19700101T080000Z
SUMMARY:Deadline for Appeals for Readmission
DESCRIPTION:2nd Trim 2023-2024
CATEGORIES:UPSA,Second Trimester AY 2023-2024,Deadline
END:VEVENT
BEGIN:VEVENT
DTSTAMP:20260424T191645Z
UID:20260424T191645Z69eb511ddbb95@crs.upd.edu.ph
DTSTART;VALUE=DATE-TIME:20231103T000000Z
DTEND;VALUE=DATE-TIME:20231107T235959Z
SUMMARY:General Registration
DESCRIPTION:2nd Trim 2023-2024
CATEGORIES:UPSA,Second Trimester AY 2023-2024,Registration Events
END:VEVENT
BEGIN:VEVENT
DTSTAMP:20260424T191645Z
UID:20260424T191645Z69eb511ddbb97@crs.upd.edu.ph
DTSTART;VALUE=DATE:20231103
DTEND;VALUE=DATE:20240312
SUMMARY:Academic Term Duration
DESCRIPTION:2nd Trim 2023-2024
CATEGORIES:UPSA,Second Trimester AY 2023-2024,Time Period
END:VEVENT
BEGIN:VEVENT
DTSTAMP:20260424T191645Z
UID:20260424T191645Z69eb511ddbb99@crs.upd.edu.ph
DTSTART;VALUE=DATE-TIME:20231103T000000Z
DTEND;VALUE=DATE-TIME:20240312T235959Z
SUMMARY:Term Duration for Grade Completion
DESCRIPTION:2nd Trim 2023-2024
CATEGORIES:UPSA,Second Trimester AY 2023-2024,Time Period
END:VEVENT
BEGIN:VEVENT
DTSTAMP:20260424T191645Z
UID:20260424T191645Z69eb511ddbb9a@crs.upd.edu.ph
DTSTART;VALUE=DATE:20231107
DTEND;VALUE=DATE:20240212
SUMMARY:Official Class Period
DESCRIPTION:2nd Trim 2023-2024
CATEGORIES:UPSA,Second Trimester AY 2023-2024,Class-Related Events
END:VEVENT
BEGIN:VEVENT
DTSTAMP:20260424T191645Z
UID:20260424T191645Z69eb511ddbb9c@crs.upd.edu.ph
DTSTART;VALUE=DATE-TIME:20231107T235959Z
DTEND;VALUE=DATE-TIME:19700101T080000Z
SUMMARY:Deadline for Students to Withdraw Enlistments
DESCRIPTION:2nd Trim 2023-2024
CATEGORIES:UPSA,Second Trimester AY 2023-2024,Deadline
END:VEVENT
BEGIN:VEVENT
DTSTAMP:20260424T191645Z
UID:20260424T191645Z69eb511ddbb9e@crs.upd.edu.ph
DTSTART;VALUE=DATE-TIME:20231117T235959Z
DTEND;VALUE=DATE-TIME:19700101T080000Z
SUMMARY:Last Day of Payment for Registration
DESCRIPTION:2nd Trim 2023-2024
CATEGORIES:UPSA,Second Trimester AY 2023-2024,Deadline
END:VEVENT
BEGIN:VEVENT
DTSTAMP:20260424T191645Z
UID:20260424T191645Z69eb511ddbb9f@crs.upd.edu.ph
DTSTART;VALUE=DATE-TIME:20231117T235959Z
DTEND;VALUE=DATE-TIME:19700101T080000Z
SUMMARY:Last Day of Payment for Change of Matriculation
DESCRIPTION:2nd Trim 2023-2024
CATEGORIES:UPSA,Second Trimester AY 2023-2024,Deadline
END:VEVENT
BEGIN:VEVENT
DTSTAMP:20260424T191645Z
UID:20260424T191645Z69eb511ddbba1@crs.upd.edu.ph
DTSTART;VALUE=DATE-TIME:20231120T235959Z
DTEND;VALUE=DATE-TIME:19700101T080000Z
SUMMARY:Deadline of Application for Graduation for Graduat
 ing Students
DESCRIPTION:2nd Trim 2023-2024
CATEGORIES:UPSA,Second Trimester AY 2023-2024,Deadline
END:VEVENT
BEGIN:VEVENT
DTSTAMP:20260424T191645Z
UID:20260424T191645Z69eb511ddbba2@crs.upd.edu.ph
DTSTART;VALUE=DATE:20240102
DTEND;VALUE=DATE:19700101
SUMMARY:Mid-Trimester
DESCRIPTION:2nd Trim 2023-2024
CATEGORIES:UPSA,Second Trimester AY 2023-2024,Class-Related Events
END:VEVENT
BEGIN:VEVENT
DTSTAMP:20260424T191645Z
UID:20260424T191645Z69eb511ddbba4@crs.upd.edu.ph
DTSTART;VALUE=DATE-TIME:20240129T235959Z
DTEND;VALUE=DATE-TIME:19700101T080000Z
SUMMARY:Deadline for Dropping of Subjects
DESCRIPTION:2nd Trim 2023-2024
CATEGORIES:UPSA,Second Trimester AY 2023-2024,Deadline
END:VEVENT
BEGIN:VEVENT
DTSTAMP:20260424T191645Z
UID:20260424T191645Z69eb511ddbba5@crs.upd.edu.ph
DTSTART;VALUE=DATE-TIME:20240129T235959Z
DTEND;VALUE=DATE-TIME:19700101T080000Z
SUMMARY:Deadline for Filing Leave of Absence (LOA)
DESCRIPTION:2nd Trim 2023-2024
CATEGORIES:UPSA,Second Trimester AY 2023-2024,Deadline
END:VEVENT
BEGIN:VEVENT
DTSTAMP:20260424T191645Z
UID:20260424T191645Z69eb511ddbba7@crs.upd.edu.ph
DTSTART;VALUE=DATE-TIME:20240213T000000Z
DTEND;VALUE=DATE-TIME:20250316T235959Z
SUMMARY:Period for Grade Completion
DESCRIPTION:2nd Trim 2023-2024
CATEGORIES:UPSA,Second Trimester AY 2023-2024,Time Period
END:VEVENT
BEGIN:VEVENT
DTSTAMP:20260424T191645Z
UID:20260424T191645Z69eb511ddbba9@crs.upd.edu.ph
DTSTART;VALUE=DATE:20240219
DTEND;VALUE=DATE:20240224
SUMMARY:Final Examinations
DESCRIPTION:2nd Trim 2023-2024
CATEGORIES:UPSA,Second Trimester AY 2023-2024,Class-Related Events
END:VEVENT
BEGIN:VEVENT
DTSTAMP:20260424T191645Z
UID:20260424T191645Z69eb511ddbbaa@crs.upd.edu.ph
DTSTART;VALUE=DATE:20240301
DTEND;VALUE=DATE:19700101
SUMMARY:Deadline of Grade Submission for All Students
DESCRIPTION:2nd Trim 2023-2024
CATEGORIES:UPSA,Second Trimester AY 2023-2024,Deadline
END:VEVENT
BEGIN:VEVENT
DTSTAMP:20260424T191645Z
UID:20260424T191645Z69eb511ddbbac@crs.upd.edu.ph
DTSTART;VALUE=DATE-TIME:20240306T000000Z
DTEND;VALUE=DATE-TIME:19700101T080000Z
SUMMARY:SET Results Availability
DESCRIPTION:2nd Trim 2023-2024
CATEGORIES:UPSA,Second Trimester AY 2023-2024,General
END:VEVENT
BEGIN:VEVENT
DTSTAMP:20260424T191645Z
UID:20260424T191645Z69eb511ddbbad@crs.upd.edu.ph
DTSTART;VALUE=DATE:20240312
DTEND;VALUE=DATE:19700101
SUMMARY:Last Day of Enrollment for Residency Purposes
DESCRIPTION:2nd Trim 2023-2024
CATEGORIES:UPSA,Second Trimester AY 2023-2024,Registration Events
END:VEVENT
END:VCALENDAR
