BEGIN:VCALENDAR
VERSION:2.0
PRODID:-//UPD CRS//NONSGML Academic Calendar//EN
BEGIN:VEVENT
DTSTAMP:20260421T074807Z
UID:20260421T074807Z69e6bb372e1b6@crs.upd.edu.ph
DTSTART;VALUE=DATE-TIME:20240219T235959Z
DTEND;VALUE=DATE-TIME:19700101T080000Z
SUMMARY:Deadline of Application and Extension of MRR
DESCRIPTION:3rd Trim 2023-2024
CATEGORIES:UPSA,Third Trimester AY 2023-2024,Deadline
END:VEVENT
BEGIN:VEVENT
DTSTAMP:20260421T074807Z
UID:20260421T074807Z69e6bb372e1b9@crs.upd.edu.ph
DTSTART;VALUE=DATE-TIME:20240219T235959Z
DTEND;VALUE=DATE-TIME:19700101T080000Z
SUMMARY:Deadline for Appeals for Readmission
DESCRIPTION:3rd Trim 2023-2024
CATEGORIES:UPSA,Third Trimester AY 2023-2024,Deadline
END:VEVENT
BEGIN:VEVENT
DTSTAMP:20260421T074807Z
UID:20260421T074807Z69e6bb372e1ba@crs.upd.edu.ph
DTSTART;VALUE=DATE-TIME:20240313T000000Z
DTEND;VALUE=DATE-TIME:20240315T235959Z
SUMMARY:General Registration
DESCRIPTION:3rd Trim 2023-2024
CATEGORIES:UPSA,Third Trimester AY 2023-2024,Registration Events
END:VEVENT
BEGIN:VEVENT
DTSTAMP:20260421T074807Z
UID:20260421T074807Z69e6bb372e1bc@crs.upd.edu.ph
DTSTART;VALUE=DATE:20240313
DTEND;VALUE=DATE:20240714
SUMMARY:Academic Term Duration
DESCRIPTION:3rd Trim 2023-2024
CATEGORIES:UPSA,Third Trimester AY 2023-2024,Time Period
END:VEVENT
BEGIN:VEVENT
DTSTAMP:20260421T074807Z
UID:20260421T074807Z69e6bb372e1be@crs.upd.edu.ph
DTSTART;VALUE=DATE-TIME:20240313T000000Z
DTEND;VALUE=DATE-TIME:20240714T235959Z
SUMMARY:Term Duration for Grade Completion
DESCRIPTION:3rd Trim 2023-2024
CATEGORIES:UPSA,Third Trimester AY 2023-2024,Time Period
END:VEVENT
BEGIN:VEVENT
DTSTAMP:20260421T074807Z
UID:20260421T074807Z69e6bb372e1bf@crs.upd.edu.ph
DTSTART;VALUE=DATE:20240318
DTEND;VALUE=DATE:20240617
SUMMARY:Official Class Period
DESCRIPTION:3rd Trim 2023-2024
CATEGORIES:UPSA,Third Trimester AY 2023-2024,Class-Related Events
END:VEVENT
BEGIN:VEVENT
DTSTAMP:20260421T074807Z
UID:20260421T074807Z69e6bb372e1c1@crs.upd.edu.ph
DTSTART;VALUE=DATE-TIME:20240318T235959Z
DTEND;VALUE=DATE-TIME:19700101T080000Z
SUMMARY:Deadline for Students to Withdraw Enlistments
DESCRIPTION:3rd Trim 2023-2024
CATEGORIES:UPSA,Third Trimester AY 2023-2024,Deadline
END:VEVENT
BEGIN:VEVENT
DTSTAMP:20260421T074807Z
UID:20260421T074807Z69e6bb372e1c3@crs.upd.edu.ph
DTSTART;VALUE=DATE-TIME:20240405T235959Z
DTEND;VALUE=DATE-TIME:19700101T080000Z
SUMMARY:Last Day of Payment for Change of Matriculation
DESCRIPTION:3rd Trim 2023-2024
CATEGORIES:UPSA,Third Trimester AY 2023-2024,Deadline
END:VEVENT
BEGIN:VEVENT
DTSTAMP:20260421T074807Z
UID:20260421T074807Z69e6bb372e1c5@crs.upd.edu.ph
DTSTART;VALUE=DATE-TIME:20240405T235959Z
DTEND;VALUE=DATE-TIME:19700101T080000Z
SUMMARY:Last Day of Payment for Registration
DESCRIPTION:3rd Trim 2023-2024
CATEGORIES:UPSA,Third Trimester AY 2023-2024,Deadline
END:VEVENT
BEGIN:VEVENT
DTSTAMP:20260421T074807Z
UID:20260421T074807Z69e6bb372e1c6@crs.upd.edu.ph
DTSTART;VALUE=DATE-TIME:20240408T235959Z
DTEND;VALUE=DATE-TIME:19700101T080000Z
SUMMARY:Deadline of Application for Graduation for Graduat
 ing Students
DESCRIPTION:3rd Trim 2023-2024
CATEGORIES:UPSA,Third Trimester AY 2023-2024,Deadline
END:VEVENT
BEGIN:VEVENT
DTSTAMP:20260421T074807Z
UID:20260421T074807Z69e6bb372e1c8@crs.upd.edu.ph
DTSTART;VALUE=DATE:20240506
DTEND;VALUE=DATE:19700101
SUMMARY:Mid-Trimester
DESCRIPTION:3rd Trim 2023-2024
CATEGORIES:UPSA,Third Trimester AY 2023-2024,Class-Related Events
END:VEVENT
BEGIN:VEVENT
DTSTAMP:20260421T074807Z
UID:20260421T074807Z69e6bb372e1ca@crs.upd.edu.ph
DTSTART;VALUE=DATE-TIME:20240527T235959Z
DTEND;VALUE=DATE-TIME:19700101T080000Z
SUMMARY:Deadline for Dropping of Subjects
DESCRIPTION:3rd Trim 2023-2024
CATEGORIES:UPSA,Third Trimester AY 2023-2024,Deadline
END:VEVENT
BEGIN:VEVENT
DTSTAMP:20260421T074807Z
UID:20260421T074807Z69e6bb372e1cb@crs.upd.edu.ph
DTSTART;VALUE=DATE-TIME:20240603T235959Z
DTEND;VALUE=DATE-TIME:19700101T080000Z
SUMMARY:Deadline for Filing Leave of Absence (LOA)
DESCRIPTION:3rd Trim 2023-2024
CATEGORIES:UPSA,Third Trimester AY 2023-2024,Deadline
END:VEVENT
BEGIN:VEVENT
DTSTAMP:20260421T074807Z
UID:20260421T074807Z69e6bb372e1cd@crs.upd.edu.ph
DTSTART;VALUE=DATE-TIME:20240618T000000Z
DTEND;VALUE=DATE-TIME:20250720T235959Z
SUMMARY:Period for Grade Completion
DESCRIPTION:3rd Trim 2023-2024
CATEGORIES:UPSA,Third Trimester AY 2023-2024,Time Period
END:VEVENT
BEGIN:VEVENT
DTSTAMP:20260421T074807Z
UID:20260421T074807Z69e6bb372e1cf@crs.upd.edu.ph
DTSTART;VALUE=DATE:20240624
DTEND;VALUE=DATE:20240629
SUMMARY:Final Examinations
DESCRIPTION:3rd Trim 2023-2024
CATEGORIES:UPSA,Third Trimester AY 2023-2024,Class-Related Events
END:VEVENT
BEGIN:VEVENT
DTSTAMP:20260421T074807Z
UID:20260421T074807Z69e6bb372e1d0@crs.upd.edu.ph
DTSTART;VALUE=DATE:20240705
DTEND;VALUE=DATE:19700101
SUMMARY:Deadline of Grade Submission for All Students
DESCRIPTION:3rd Trim 2023-2024
CATEGORIES:UPSA,Third Trimester AY 2023-2024,Deadline
END:VEVENT
BEGIN:VEVENT
DTSTAMP:20260421T074807Z
UID:20260421T074807Z69e6bb372e1d2@crs.upd.edu.ph
DTSTART;VALUE=DATE:20240712
DTEND;VALUE=DATE:19700101
SUMMARY:Last Day of Enrollment for Residency Purposes
DESCRIPTION:3rd Trim 2023-2024
CATEGORIES:UPSA,Third Trimester AY 2023-2024,Registration Events
END:VEVENT
BEGIN:VEVENT
DTSTAMP:20260421T074807Z
UID:20260421T074807Z69e6bb372e1d4@crs.upd.edu.ph
DTSTART;VALUE=DATE-TIME:20240712T000000Z
DTEND;VALUE=DATE-TIME:19700101T080000Z
SUMMARY:SET Results Availability
DESCRIPTION:3rd Trim 2023-2024
CATEGORIES:UPSA,Third Trimester AY 2023-2024,General
END:VEVENT
END:VCALENDAR
